BEGIN:VCALENDAR
VERSION:2.0
PRODID:-//ChamberMaster//Event Calendar 2.0//EN
METHOD:PUBLISH
X-PUBLISHED-TTL:P3D
REFRESH-INTERVAL:P3D
CALSCALE:GREGORIAN
BEGIN:VEVENT
DTSTART:20191016T203000Z
DTEND:20191016T213000Z
X-MICROSOFT-CDO-ALLDAYEVENT:FALSE
SUMMARY:Heart to Heart Support Group - Stroke Prevention
DESCRIPTION:Hear from Rebecca Hubbard\, Kearney Regional Medical Center Stroke Coordinator\, about risk and prevention of stroke.\n\n\n\n\n\nNo need to RSVP! All are welcome.
X-ALT-DESC;FMTTYPE=text/html:Hear from Rebecca Hubbard\, Kearney Regional Medical Center Stroke Coordinator\, about risk and prevention of stroke.<br />\n<br />\n<br />\nNo need to RSVP! All are welcome.
LOCATION:Peterson Activity Center\, Yanney Park 2020 West 11th Street\, Kearney
UID:e.1404.18193
SEQUENCE:3
DTSTAMP:20260425T163959Z
URL:https://members.kearneycoc.org/events/details/heart-to-heart-support-group-stroke-prevention-18193
END:VEVENT

END:VCALENDAR
