BEGIN:VCALENDAR
VERSION:2.0
PRODID:-//ChamberMaster//Event Calendar 2.0//EN
METHOD:PUBLISH
X-PUBLISHED-TTL:P3D
REFRESH-INTERVAL:P3D
CALSCALE:GREGORIAN
BEGIN:VEVENT
DTSTART:20140520T150000Z
DTEND:20140520T200000Z
X-MICROSOFT-CDO-ALLDAYEVENT:FALSE
SUMMARY:Heritage Bank Blood Drive
DESCRIPTION:Blood Drive
X-ALT-DESC;FMTTYPE=text/html:Blood Drive
LOCATION:Heritage Bank Conference Room 315 W 60th Street Kearney\, NE
UID:e.1404.4843
SEQUENCE:3
DTSTAMP:20260423T133040Z
URL:https://members.kearneycoc.org/events/details/heritage-bank-blood-drive-05-20-2014-4843
END:VEVENT

END:VCALENDAR
