BEGIN:VCALENDAR
VERSION:2.0
PRODID:-//ChamberMaster//Event Calendar 2.0//EN
METHOD:PUBLISH
X-PUBLISHED-TTL:P3D
REFRESH-INTERVAL:P3D
CALSCALE:GREGORIAN
BEGIN:VEVENT
DTSTART:20191030T223000Z
DTEND:20191031T000000Z
X-MICROSOFT-CDO-ALLDAYEVENT:FALSE
SUMMARY:Hernia Educational Event & Free Screenings
DESCRIPTION:A hernia is a condition where a person has part of their organ protruding through an opening in the surrounding muscle wall. It is estimated that thousands of Americans have untreated and undiagnosed hernias. If left untreated\, hernias can cause unnecessary pain and/or lead to further health problems.\n\nTo combat this problem\, a free educational event is being offered for attendees to learn about the signs and symptoms of hernias\, the importance of early detection\, and the treatment options available at Kearney Regional Medical Center\, including robotic surgery.\n\n \n\nAttendees will meet our team of board-certified general surgeons while enjoying light refreshments in a casual atmosphere. Physicians will answer questions about surgical and non-surgical options for hernia repair\, including associated risks and benefits. They will also showcase Kearney Regional's new DaVinci Xi surgical system and have a Q&A session about robotic surgery.
X-ALT-DESC;FMTTYPE=text/html:A hernia is a condition where a person has part of their organ protruding through an opening in the surrounding muscle wall. It is estimated that thousands of Americans have untreated and undiagnosed hernias. If left untreated\, hernias can cause unnecessary pain and/or lead to further health problems.<br />\nTo combat this problem\, a free educational event is being offered for attendees to learn about the signs and symptoms of hernias\, the importance of early detection\, and the treatment options available at Kearney Regional Medical Center\, including robotic surgery.<br />\n&nbsp\;<br />\nAttendees will meet our team of board-certified general surgeons while enjoying light refreshments in a casual atmosphere. Physicians will answer questions about surgical and non-surgical options for hernia repair\, including associated risks and benefits. They will also showcase Kearney Regional&#39\;s new DaVinci Xi surgical system and have a Q&amp\;A session about robotic surgery.
LOCATION:Platte Valley Medical Group 816 22nd Ave\, Kearney\, NE 68845
UID:e.1404.18192
SEQUENCE:3
DTSTAMP:20260425T163721Z
URL:https://members.kearneycoc.org/events/details/hernia-educational-event-free-screenings-18192
END:VEVENT

END:VCALENDAR
