BEGIN:VCALENDAR
VERSION:2.0
PRODID:-//ChamberMaster//Event Calendar 2.0//EN
METHOD:PUBLISH
X-PUBLISHED-TTL:P3D
REFRESH-INTERVAL:P3D
CALSCALE:GREGORIAN
BEGIN:VEVENT
DTSTART:20160611T150000Z
DTEND:20160611T220000Z
X-MICROSOFT-CDO-ALLDAYEVENT:FALSE
SUMMARY:Hilltop Mall Rodz and Classics Car Show
DESCRIPTION:Come check out the 1st annual Rodz and Classics Car Show June 11th\, 2016 at the Hilltop Mall. This event will take place in the parking lot of the Hilltop Mall from 10 a.m. to 5 p.m. with awards at 4:30 p.m. This show will feature a variety of cars including street rods\, hot rods\, rat rods\, off roads\, classics and bikes. If you would like to enter your car in the show you can contact Darin Meseure at (308) 293-6577 or 1darinfm@gmail.com. You can also contact the Hilltop Mall office for a registration form.
X-ALT-DESC;FMTTYPE=text/html:Come check out the 1st annual Rodz and Classics Car Show June 11th\, 2016 at the Hilltop Mall. This event will take place in the parking lot of the Hilltop Mall from 10 a.m. to 5 p.m. with awards at 4:30 p.m. This show will feature a variety of cars including street rods\, hot rods\, rat rods\, off roads\, classics and bikes. If you would like to enter your car in the show you can contact Darin Meseure at (308) 293-6577 or 1darinfm@gmail.com. You can also contact the Hilltop Mall office for a registration form.
LOCATION:Hilltop Mall Parking Lot
UID:e.1404.8785
SEQUENCE:3
DTSTAMP:20260421T184741Z
URL:https://members.kearneycoc.org/events/details/hilltop-mall-rodz-and-classics-car-show-06-11-2016-8785
END:VEVENT

END:VCALENDAR
