BEGIN:VCALENDAR
VERSION:2.0
PRODID:-//ChamberMaster//Event Calendar 2.0//EN
METHOD:PUBLISH
X-PUBLISHED-TTL:P3D
REFRESH-INTERVAL:P3D
CALSCALE:GREGORIAN
BEGIN:VEVENT
DTSTART:20141031T230000Z
DTEND:20141101T010000Z
X-MICROSOFT-CDO-ALLDAYEVENT:FALSE
SUMMARY:Hilltop Mall Trick-or-Treating
DESCRIPTION:Halloween mall-wide Trick-or-Treating.
X-ALT-DESC;FMTTYPE=text/html:Halloween mall-wide Trick-or-Treating.
LOCATION:Hilltop Mall
UID:e.1404.5395
SEQUENCE:3
DTSTAMP:20260423T051322Z
URL:https://members.kearneycoc.org/events/details/hilltop-mall-trick-or-treating-10-31-2014-5395
END:VEVENT

END:VCALENDAR
