BEGIN:VCALENDAR
VERSION:2.0
PRODID:-//ChamberMaster//Event Calendar 2.0//EN
METHOD:PUBLISH
X-PUBLISHED-TTL:P3D
REFRESH-INTERVAL:P3D
CALSCALE:GREGORIAN
BEGIN:VEVENT
DTSTART:20151109T150000Z
DTEND:20151114T000000Z
X-MICROSOFT-CDO-ALLDAYEVENT:FALSE
SUMMARY:Holiday Lighting by CurbIt\, In
DESCRIPTION:Holiday Light Sale! Inventory Liquidation. Incandescent and LED holiday lights and displays Huge Discounts!
X-ALT-DESC;FMTTYPE=text/html:Holiday Light Sale! Inventory Liquidation. Incandescent&nbsp\;and LED holiday lights and displays Huge Discounts!
LOCATION:2106 Avenue F
UID:e.1404.7051
SEQUENCE:3
DTSTAMP:20260422T064820Z
URL:https://members.kearneycoc.org/events/details/holiday-lighting-by-curbit-in-11-09-2015-7051
END:VEVENT

END:VCALENDAR
