BEGIN:VCALENDAR
VERSION:2.0
PRODID:-//ChamberMaster//Event Calendar 2.0//EN
METHOD:PUBLISH
X-PUBLISHED-TTL:P3D
REFRESH-INTERVAL:P3D
CALSCALE:GREGORIAN
BEGIN:VEVENT
DTSTART:20161106T180000Z
DTEND:20161106T233000Z
X-MICROSOFT-CDO-ALLDAYEVENT:FALSE
SUMMARY:Holiday Open House
DESCRIPTION:Get in the holiday spirit and spend a Sunday afternoon shopping and enjoying Downtown Kearney. Explore entertaining ideas\, cooking essentials\, fashion & clothing for adults and children\, and so much more!
X-ALT-DESC;FMTTYPE=text/html:<span style="color: rgb(102\, 102\, 102)\; font-family: &quot\;Open Sans&quot\;\, HelveticaNeue\, &quot\;Helvetica Neue&quot\;\, Helvetica\, Arial\, sans-serif\; font-size: 13px\; line-height: 22.1px\; background-color: rgb(255\, 255\, 255)\;">Get in the holiday spirit and spend a Sunday afternoon shopping and enjoying Downtown Kearney. Explore entertaining ideas\, cooking essentials\, fashion &amp\; clothing for adults and children\, and so much more!</span>
LOCATION:Downtown Kearney
UID:e.1404.9004
SEQUENCE:3
DTSTAMP:20260421T101635Z
URL:https://members.kearneycoc.org/events/details/holiday-open-house-9004
END:VEVENT

END:VCALENDAR
