BEGIN:VCALENDAR
VERSION:2.0
PRODID:-//ChamberMaster//Event Calendar 2.0//EN
METHOD:PUBLISH
X-PUBLISHED-TTL:P3D
REFRESH-INTERVAL:P3D
CALSCALE:GREGORIAN
BEGIN:VEVENT
DTSTART:20141102T180000Z
DTEND:20141102T230000Z
X-MICROSOFT-CDO-ALLDAYEVENT:FALSE
SUMMARY:Holiday Open House ~ On the Bricks
DESCRIPTION:Join Downtown Kearney for the Annual Holiday Open House. Get in the holiday spirit with a leisurely stroll On The Bricks of downtown! Spend a Sunday afternoon shopping and enjoying Downtown Kearney. Explore entertaining ideas\, cooking essentials\, fashion and clothing for adults and children. Each shop will have special store savings\, promotions\, & goodies!
X-ALT-DESC;FMTTYPE=text/html:Join Downtown Kearney for the Annual Holiday Open House. Get in the holiday spirit with a leisurely stroll On The Bricks of downtown! Spend a Sunday afternoon shopping and enjoying Downtown Kearney. Explore entertaining ideas\, cooking essentials\, fashion and clothing for adults and children. Each shop will have special store savings\, promotions\, &amp\; goodies!
LOCATION:Downtown Kearney
UID:e.1404.5383
SEQUENCE:3
DTSTAMP:20260423T034221Z
URL:https://members.kearneycoc.org/events/details/holiday-open-house-on-the-bricks-11-02-2014-5383
END:VEVENT

END:VCALENDAR
