BEGIN:VCALENDAR
VERSION:2.0
PRODID:-//ChamberMaster//Event Calendar 2.0//EN
METHOD:PUBLISH
X-PUBLISHED-TTL:P3D
REFRESH-INTERVAL:P3D
CALSCALE:GREGORIAN
BEGIN:VEVENT
DTSTART:20201108T180000Z
DTEND:20201108T230000Z
X-MICROSOFT-CDO-ALLDAYEVENT:FALSE
SUMMARY:Holiday Open House on the Bricks
DESCRIPTION:Shop small\, local\, Kearney and on the Bricks this holiday season! Get into the holiday spirit and join others in the historic district to get a head start on shopping. See what's new and take advantage of sales during Downtown Kearney's annual Holiday Open House. Grab a coffee and a bite to eat too. It's sure to be a great afternoon on the Bricks! Check with individual stores for participation. Due to COVID-19\, we strongly recommend shopping in groups of eight or less\, social distancing at least six feet from other people and groups and wearing masks.
X-ALT-DESC;FMTTYPE=text/html:Shop small\, local\, Kearney and on the Bricks this holiday season! Get into the holiday spirit and join others in the historic district to get a head start on shopping. See what&#39\;s new and take advantage of sales during Downtown Kearney&#39\;s annual Holiday Open House. Grab a coffee and a bite to eat too. It&#39\;s sure to be a great afternoon on the Bricks! Check with individual stores for participation. Due to COVID-19\, we strongly recommend shopping in groups of eight or less\, social distancing at least six feet from other people and groups and wearing masks.
LOCATION:Downtown Kearney
UID:e.1404.18769
SEQUENCE:3
DTSTAMP:20260424T192005Z
URL:https://members.kearneycoc.org/events/details/holiday-open-house-on-the-bricks-11-08-2020-18769
END:VEVENT

END:VCALENDAR
