BEGIN:VCALENDAR
VERSION:2.0
PRODID:-//ChamberMaster//Event Calendar 2.0//EN
METHOD:PUBLISH
X-PUBLISHED-TTL:P3D
REFRESH-INTERVAL:P3D
CALSCALE:GREGORIAN
BEGIN:VEVENT
DTSTART:20141108T150000Z
DTEND:20141108T220000Z
X-MICROSOFT-CDO-ALLDAYEVENT:FALSE
SUMMARY:Holiday Splendor Craft & Trade Show
DESCRIPTION:Join Christmas shoppers from all over the state at this well-established holiday craft and trade show held the second Saturday in November in Kearney for over 10 years. There's something for everyone including great entertainment for your kids\, everything you need for your stockings/gift giving and homemade goodies galore! Visit with home-based businesses about that perfect product you need to make your life better. Not a show you want to miss! Sponsored by Community Action Partnership of Mid Nebraska\; Show Promoter-Kyla Martin. Find us on facebook.com/midshowpromotions. Free parking/admission.
X-ALT-DESC;FMTTYPE=text/html:<p><span style="font-family: Verdana\, sans-serif\;">Join Christmas shoppers from all over the state at this well-established holiday craft and trade show held the second Saturday in November in Kearney for over 10 years. There&#39\;s something for everyone including great entertainment for your kids\, everything you need for your stockings/gift giving and homemade goodies galore! Visit with home-based businesses about that perfect product you need to make your life better. Not a show you want to miss! Sponsored by Community Action Partnership of Mid Nebraska\; Show Promoter-Kyla Martin. Find us on </span><span style="font-family:&quot\;Franklin Gothic Book&quot\;\;color:#C00000">facebook.com/midshowpromotions. Free parking/admission.<o:p></o:p></span></p>\n
LOCATION:3807 Ave N Buffalo County Fairgrounds\, Landmark Implement Arena\, EXPO\, Kearney\, NE
UID:e.1404.4478
SEQUENCE:3
DTSTAMP:20260423T034826Z
URL:https://members.kearneycoc.org/events/details/holiday-splendor-craft-trade-show-11-08-2014-4478
END:VEVENT

END:VCALENDAR
