BEGIN:VCALENDAR
VERSION:2.0
PRODID:-//ChamberMaster//Event Calendar 2.0//EN
METHOD:PUBLISH
X-PUBLISHED-TTL:P3D
REFRESH-INTERVAL:P3D
CALSCALE:GREGORIAN
BEGIN:VEVENT
DTSTART;VALUE=DATE:20131005
DTEND;VALUE=DATE:20131006
TRANSP:TRANSPARENT
X-MICROSOFT-CDO-ALLDAYEVENT:TRUE
SUMMARY:HOLIDAYS IN THE HEARTLAND CRAFT AND TRADE SHOW
DESCRIPTION:Join Community Action Partnership of Mid Nebraska from Kearney at their first annual Holidays in the Heartland Craft and Trade Show on October 5th\, at Fonner Park Exhibition Building in Grand Island from 9:00-4:00. Take in the Harvest of Harmony Parade and jet over to Fonner Park. $2 admission at the door. Over 200+ booths of one-of-a-kind crafters\, trade businesses\, and delicious food vendors. Get an early start on all your holiday shopping! Contact Kyla Martin\, Show Promoter\, at 308-440-0153 or kmartin@mnca.net. www.communityactionmidne.com
X-ALT-DESC;FMTTYPE=text/html:Join Community Action Partnership of Mid Nebraska from Kearney at their first annual Holidays in the Heartland Craft and Trade Show on October 5th\, at Fonner Park Exhibition Building in Grand Island from 9:00-4:00. Take in the Harvest of Harmony Parade and jet over to Fonner Park. $2 admission at the door. Over 200+ booths of one-of-a-kind crafters\, trade businesses\, and delicious food vendors. Get an early start on all your holiday shopping! Contact Kyla Martin\, Show Promoter\, at 308-440-0153 or <a href="mailto:kmartin@mnca.net">kmartin@mnca.net</a>. <a href="http://www.communityactionmidne.com">www.communityactionmidne.com</a>
LOCATION:700 East Stolley Park Road Fonner Park Exhibition Building Grand Island NE
UID:e.1404.3219
SEQUENCE:3
DTSTAMP:20260424T003810Z
URL:https://members.kearneycoc.org/events/details/holidays-in-the-heartland-craft-and-trade-show-10-05-2013-3219
END:VEVENT

END:VCALENDAR
