BEGIN:VCALENDAR
VERSION:2.0
PRODID:-//ChamberMaster//Event Calendar 2.0//EN
METHOD:PUBLISH
X-PUBLISHED-TTL:P3D
REFRESH-INTERVAL:P3D
CALSCALE:GREGORIAN
BEGIN:VEVENT
DTSTART:20161008T140000Z
DTEND:20161008T210000Z
X-MICROSOFT-CDO-ALLDAYEVENT:FALSE
SUMMARY:Holidays in the Heartland Craft & Trade Show
DESCRIPTION:Kick off craft show season and join us for this new show in Grand Island on the second Saturday in October in the Swine Barn at Fonner Park. Holidays in the Heartland will be showcased for the fourth year out at Fonner Park. Don't miss booths of every kind of craft and product you can imagine. Everything you need to get your Christmas shopping underway. Crafts\, products\, trades\, and all kinds of homemade goodies will keep you busy searching for those perfect things to take home. Free parking\; $ 2 admission fee at door for 13 and up. Sponsored by Community Action Partnership of Mid Nebraska in Kearney. Learn more at facebook.com/midshowpromotions.
X-ALT-DESC;FMTTYPE=text/html:Kick off craft show season and join us for this new show in Grand Island on the second Saturday in October in the Swine Barn at Fonner Park. Holidays in the Heartland will be showcased for the fourth year out at Fonner Park. Don&#39\;t miss booths of every kind of craft and product you can imagine. Everything you need to get your Christmas shopping underway. Crafts\, products\, trades\, and all kinds of homemade goodies will keep you busy searching for those perfect things to take home. Free parking\; $ 2 admission fee at door for 13 and up. Sponsored by Community Action Partnership of Mid Nebraska in Kearney. Learn more at facebook.com/midshowpromotions.
LOCATION:Fonner Park 700 East Stolley Park Road Grand Island\, NE 68801
UID:e.1404.9045
SEQUENCE:3
DTSTAMP:20260421T140711Z
URL:https://members.kearneycoc.org/events/details/holidays-in-the-heartland-craft-trade-show-9045
END:VEVENT

END:VCALENDAR
