BEGIN:VCALENDAR
VERSION:2.0
PRODID:-//ChamberMaster//Event Calendar 2.0//EN
METHOD:PUBLISH
X-PUBLISHED-TTL:P3D
REFRESH-INTERVAL:P3D
CALSCALE:GREGORIAN
BEGIN:VEVENT
DTSTART:20160901T230000Z
DTEND:20160902T010000Z
X-MICROSOFT-CDO-ALLDAYEVENT:FALSE
SUMMARY:Hometown Picnic
DESCRIPTION:To learn more about United Way\, join us as we kick off our campaign with food and games at Yanney Park.
X-ALT-DESC;FMTTYPE=text/html:To learn more about United Way\, join us as we kick off our campaign with food and games at Yanney Park.
LOCATION:
UID:e.1404.8992
SEQUENCE:3
DTSTAMP:20260421T140006Z
URL:https://members.kearneycoc.org/events/details/hometown-picnic-8992
END:VEVENT

END:VCALENDAR
