BEGIN:VCALENDAR
VERSION:2.0
PRODID:-//ChamberMaster//Event Calendar 2.0//EN
METHOD:PUBLISH
X-PUBLISHED-TTL:P3D
REFRESH-INTERVAL:P3D
CALSCALE:GREGORIAN
BEGIN:VEVENT
DTSTART:20141206T150000Z
DTEND:20141206T200000Z
X-MICROSOFT-CDO-ALLDAYEVENT:FALSE
SUMMARY:HOPE for the Holidays
DESCRIPTION:HOPE for the Holidays When: Saturday\, December 6th Where: Alumni House\, 2222 9th Avenue\, Kearney Time: 9:00 am to 2:00 pm Cost: 2 Cans of Food Canned goods will be donated to the local Food Pantry. Bring in 2 protein items and get an entry into a special drawing Stop in to see what HOPE is all about and show your support for some local business women. There will be some cash & carry\, show discounts\, door prizes and some appetizers and refreshments. HOPE is all about helping others and we thought this would be a great way to help those in need this Holiday season. There are people in our community that could use a little extra help\, with some warm and filling meals this winter. So we decided that a canned food drive would be a good place to start. Vendors 360?Vicky Sharkey Mary Kay?Tami Stewart Mary & Martha?Charlotte Burr Pampered Chef?Sheila Schutte Pure Romance?Stacy Cash Scentsy?Michelle Egge Tastefully Simple?Stephanie Vavra Thirty-One?Stephanie Vavra Make sure to invite a friend or two! Keep an eye out on Facebook for the event page and invite your friends and family. For more information contact: Stephanie Vavra (402) 490-8455 stephanievavra@yahoo.com
X-ALT-DESC;FMTTYPE=text/html:HOPE for the Holidays When: Saturday\, December 6th Where: Alumni House\, 2222 9th Avenue\, Kearney Time: 9:00 am to 2:00 pm Cost: 2 Cans of Food Canned goods will be donated to the local Food Pantry. Bring in 2 protein items and get an entry into a special drawing Stop in to see what HOPE is all about and show your support for some local business women. There will be some cash &amp\; carry\, show discounts\, door prizes and some appetizers and refreshments. HOPE is all about helping others and we thought this would be a great way to help those in need this Holiday season. There are people in our community that could use a little extra help\, with some warm and filling meals this winter. So we decided that a canned food drive would be a good place to start. Vendors 360?Vicky Sharkey Mary Kay?Tami Stewart Mary &amp\; Martha?Charlotte Burr Pampered Chef?Sheila Schutte Pure Romance?Stacy Cash Scentsy?Michelle Egge Tastefully Simple?Stephanie Vavra Thirty-One?Stephanie Vavra Make sure to invite a friend or two! Keep an eye out on Facebook for the event page and invite your friends and family. For more information contact: Stephanie Vavra (402) 490-8455 stephanievavra@yahoo.com
LOCATION:Alumni House 2222 9th Ave\, Kearney
UID:e.1404.5416
SEQUENCE:3
DTSTAMP:20260423T020525Z
URL:https://members.kearneycoc.org/events/details/hope-for-the-holidays-12-06-2014-5416
END:VEVENT

END:VCALENDAR
