BEGIN:VCALENDAR
VERSION:2.0
PRODID:-//ChamberMaster//Event Calendar 2.0//EN
METHOD:PUBLISH
X-PUBLISHED-TTL:P3D
REFRESH-INTERVAL:P3D
CALSCALE:GREGORIAN
BEGIN:VEVENT
DTSTART:20150418T190000Z
DTEND:20150419T020000Z
X-MICROSOFT-CDO-ALLDAYEVENT:FALSE
SUMMARY:HOPE'S 3rd ANNUAL MINUTE TO WIN PUB CRAWL
DESCRIPTION:Join us for HOPE'S 3rd annual Minute To Win It Pub Crawl! We have NEW FUN MINUTE TO WIN IT GAMES\, NEW PRIZES and so much more! 9 BARS & TONS OF FUN GAMES & PRIZES!!! Includes sloppy joe & chips meal! LOTS OF SPECIALS AT EACH BAR!! Early Bird registration deadline is April 3rd. ** Cost is $25 per team member with teams of 2-4 members. ** Entries received after April 3rd will be $30 per team member. WANT TO EARN EXTRA POINTS??? ** Refer teams of 4 to register and receive an additional 5pts to your score. ** Refer teams of 2-3 for an additional 3pts added to your over all score. *** (This is per team you refer to register!)*** We will have t-shirts\, food\, and LOTS of prizes in addition to the most fun you can have in just ONE MINUTE! SO DO YOU HAVE WHAT IT TAKES TO WIN IT IN JUST ONE MINUTE???? SIGN UP TODAY!! Team sign in from 2:00 to 2:30 at Fanatics! We will start at Fanatics & end at Shooters! ** All proceeds will go to our fundraisers to help area families! *****must be at least 21 years old to participate. For more information or for a registration form email: michellee@asinc.net stephanievavra@yahoo.com or call Stephanie Vavra @ 402-490-8455 Michelle Egge @ 308-627-7157/308-237-0600 ***YOU CAN ALSO PICK UP\, DROP OFF & MAIL REGISTRATION FORMS AT: ADVANCE SERVICES 4407 2ND AVE\, KEARNEY (NEXT TO BANK OF WEST)
X-ALT-DESC;FMTTYPE=text/html:Join us for HOPE&#39\;S 3rd annual Minute To Win It Pub Crawl! We have NEW FUN MINUTE TO WIN IT GAMES\, NEW PRIZES and so much more! 9 BARS &amp\; TONS OF FUN GAMES &amp\; PRIZES!!! Includes sloppy joe &amp\; chips meal! LOTS OF SPECIALS AT EACH BAR!! Early Bird registration deadline is April 3rd. ** Cost is $25 per team member with teams of 2-4 members. ** Entries received after April 3rd will be $30 per team member. WANT TO EARN EXTRA POINTS??? ** Refer teams of 4 to register and receive an additional 5pts to your score. ** Refer teams of 2-3 for an additional 3pts added to your over all score. *** (This is per team you refer to register!)*** We will have t-shirts\, food\, and LOTS of prizes in addition to the most fun you can have in just ONE MINUTE! SO DO YOU HAVE WHAT IT TAKES TO WIN IT IN JUST ONE MINUTE???? SIGN UP TODAY!! Team sign in from 2:00 to 2:30 at Fanatics! We will start at Fanatics &amp\; end at Shooters! ** All proceeds will go to our fundraisers to help area families! *****must be at least 21 years old to participate. For more information or for a registration form email: michellee@asinc.net stephanievavra@yahoo.com or call Stephanie Vavra @ 402-490-8455 Michelle Egge @ 308-627-7157/308-237-0600 ***YOU CAN ALSO PICK UP\, DROP OFF &amp\; MAIL REGISTRATION FORMS AT: ADVANCE SERVICES 4407 2ND AVE\, KEARNEY (NEXT TO BANK OF WEST)
LOCATION:Start at Fanatics for Registration from 2- 2:30 PM
UID:e.1404.6201
SEQUENCE:3
DTSTAMP:20260422T182349Z
URL:https://members.kearneycoc.org/events/details/hope-s-3rd-annual-minute-to-win-pub-crawl-04-18-2015-6201
END:VEVENT

END:VCALENDAR
