BEGIN:VCALENDAR
VERSION:2.0
PRODID:-//ChamberMaster//Event Calendar 2.0//EN
METHOD:PUBLISH
X-PUBLISHED-TTL:P3D
REFRESH-INTERVAL:P3D
CALSCALE:GREGORIAN
BEGIN:VEVENT
DTSTART:20150212T180000Z
DTEND:20150212T190000Z
X-MICROSOFT-CDO-ALLDAYEVENT:FALSE
SUMMARY:Hospitality Committee Meeting
DESCRIPTION:Chair: Kelly Krier - Best Western Inn\n\nVice Chair: Steve Barth - Crane River Theater\n\nMeeting Schedule: 2nd Thursday of each month at Noon\nThe Kearney Hospitality Group's purpose is to increase the number of visitors to Kearney by marketing retail and tourism opportunities for conventions\, festivals and special events.\n\n\n\nThe Kearney Hospitality Group does this by assisting other Chamber Committees with facilitating marketing communication of the Kearney area and providing input to the Kearney Visitor's Bureau.\n\n\n\nThis committee is open to all Kearney Chamber Members. To inquire about joining this group\, contact Shanna Schulte at sschulte@kearneycoc.org\, Patty Candy at pcandy@visitkearney.org or join us for one of our meetings.
X-ALT-DESC;FMTTYPE=text/html:<div style="color: rgb(0\, 0\, 0)\; font-family: Helvetica\, Arial\, sans-serif\;">\n<p><b>Chair:</b>&nbsp\;<span style="color: rgb(0\, 0\, 0)\; font-family: Helvetica\, Arial\, sans-serif\; font-size: small\;">Kelly&nbsp\;</span>Krier<span style="color: rgb(0\, 0\, 0)\; font-family: Helvetica\, Arial\, sans-serif\; font-size: small\;">&nbsp\;- Best Western Inn</span><br />\n<font size="2"><b>Vice Chair: </b>Steve Barth - Crane River Theater</font><br />\n<b>Meeting Schedule:</b>&nbsp\;2nd Thursday of each month at Noon</p>\nThe Kearney Hospitality Group&rsquo\;s purpose is to increase the number of visitors to Kearney by marketing retail and tourism opportunities for conventions\, festivals and special events.<br />\n<br />\nThe Kearney Hospitality Group does this by assisting other Chamber Committees with facilitating marketing communication of the Kearney area and providing input to the Kearney Visitor&rsquo\;s Bureau.<br />\n<br />\nThis committee is open to all Kearney Chamber Members. To inquire about joining this group\, contact&nbsp\;Shanna Schulte&nbsp\;at&nbsp\;<a href="mailto:lmeans@kearneycoc.org" style="color: rgb(0\, 51\, 102)\; text-decoration: none\;">sschulte@kearneycoc.org</a>\, Patty Candy at&nbsp\;<a href="mailto:pcandy@visitkearney.org" style="color: rgb(0\, 51\, 102)\; text-decoration: none\;">pcandy@visitkearney.org</a>&nbsp\;or join us for one of our meetings.&nbsp\;</div>\n\n<div style="color: rgb(0\, 0\, 0)\; font-family: Helvetica\, Arial\, sans-serif\;">&nbsp\;</div>\n
LOCATION:Kearney Area Chamber of Commerce
UID:e.1404.5441
SEQUENCE:3
DTSTAMP:20260422T225808Z
URL:https://members.kearneycoc.org/events/details/hospitality-committee-meeting-02-12-2015-5441
END:VEVENT

END:VCALENDAR
