BEGIN:VCALENDAR
VERSION:2.0
PRODID:-//ChamberMaster//Event Calendar 2.0//EN
METHOD:PUBLISH
X-PUBLISHED-TTL:P3D
REFRESH-INTERVAL:P3D
CALSCALE:GREGORIAN
BEGIN:VEVENT
DTSTART:20220414T170000Z
DTEND:20220414T180000Z
X-MICROSOFT-CDO-ALLDAYEVENT:FALSE
SUMMARY:Hospitality & Events Committee Meeting
DESCRIPTION:Chamber Coordinator: Heather Ullman\n\nMeeting Schedule: 2nd Thursday of each alternating month at Noon\n\n\n\nHospitality and Events Committee will be meeting this Thursday\, April 14th at the Kearney Chamber boardroom at 12:00 p.m.  Lunch will be offered\, so please register to provide us with an accurate headcount.  Also\, we encourage you to bring $5 to go towards your lunch.\n\n \nThe Kearney Hospitality & Events purpose is to increase the number of visitors to Kearney by marketing retail and tourism opportunities for conventions\, festivals and special events. The group does this by assisting other Chamber committees with facilitating marketing communication of the Kearney area and providing input to the Kearney Visitor's Bureau.\n\n\n\nThis committee is open to all Kearney Chamber Members. To inquire about joining this group\, contact Heather Ullman\, hullman@kearneycoc.org\, or join us for one of our meetings.
X-ALT-DESC;FMTTYPE=text/html:<div style="color: rgb(0\, 0\, 0)\; font-family: Helvetica\, Arial\, sans-serif\;">\n<p><span style="font-size:12px\;"><span style="font-family:arial\;">Chamber Coordinator: Heather Ullman<br />\nMeeting Schedule:&nbsp\;2nd Thursday of each alternating month&nbsp\;at&nbsp\;Noon<br />\n<br />\nHospitality and Events Committee will be meeting this&nbsp\;Thursday\, April&nbsp\;14<sup>th</sup> at the Kearney Chamber boardroom at 12:00 p.m.&nbsp\; Lunch will be offered\, so please register to provide us with an accurate headcount.&nbsp\; Also\, we encourage you to bring $5 to go towards your lunch.</span></span><br />\n&nbsp\;</p>\n<span style="font-size:12px\;"><span style="font-family:arial\;">The Kearney Hospitality &amp\; Events purpose is to increase the number of visitors to Kearney by marketing retail and tourism opportunities for conventions\, festivals and special events. The group does this by assisting other Chamber committees with facilitating marketing communication of the Kearney area and providing input to the Kearney Visitor&rsquo\;s Bureau.<br />\n<br />\nThis committee is open to all Kearney Chamber Members. To inquire about joining this group\, contact Heather Ullman\, <a href="mailto:hullman@kearneycoc.org">hullman@kearneycoc.org</a>\,&nbsp\;or join us for one of our meetings.&nbsp\;</span></span></div>\n\n<div style="color: rgb(0\, 0\, 0)\; font-family: Helvetica\, Arial\, sans-serif\;">&nbsp\;</div>\n
LOCATION:Kearney Area Chamber of Commerce
UID:e.1404.5527
SEQUENCE:3
DTSTAMP:20260423T150024Z
URL:https://members.kearneycoc.org/events/details/hospitality-committee-meeting-04-14-2022-5527
END:VEVENT

END:VCALENDAR
