BEGIN:VCALENDAR
VERSION:2.0
PRODID:-//ChamberMaster//Event Calendar 2.0//EN
METHOD:PUBLISH
X-PUBLISHED-TTL:P3D
REFRESH-INTERVAL:P3D
CALSCALE:GREGORIAN
BEGIN:VEVENT
DTSTART:20190509T170000Z
DTEND:20190509T180000Z
X-MICROSOFT-CDO-ALLDAYEVENT:FALSE
SUMMARY:Hospitality Committee Meeting
DESCRIPTION:Chair: David Holl\, Microtel Inn & Suites/Country Inn & Suites\n\nVice Chair: Judy Rozema - Kearney Community Theater\n\nMeeting Schedule: 2nd Thursday of each month at Noon\nThe Kearney Hospitality Group's purpose is to increase the number of visitors to Kearney by marketing retail and tourism opportunities for conventions\, festivals and special events.\n\n\n\nThe Kearney Hospitality Group does this by assisting other Chamber Committees with facilitating marketing communication of the Kearney area and providing input to the Kearney Visitor's Bureau.\n\n\n\nThis committee is open to all Kearney Chamber Members. To inquire about joining this group\, contact Neva Klemme at nklemme@kearneycoc.org\, or join us for one of our meetings.
X-ALT-DESC;FMTTYPE=text/html:<div style="color: rgb(0\, 0\, 0)\;">\n<p style=""><span style="font-size: 12px\;"><b style=""><font face="Helvetica\, Arial\, sans-serif">Chair: </font></b><b style=""><font face="helvetica\, sans-serif">David Holl\, Microtel Inn &amp\; Suites/Country I</font></b><b style=""><font face="helvetica\, sans-serif">nn &amp\; Suites</font></b><br />\n<strong style="font-family: Helvetica\, Arial\, sans-serif\;">Vice Chair:</strong><font face="Helvetica\, Arial\, sans-serif"> Judy Rozema - Kearney Community Theater</font><br />\n<b style="font-family: Helvetica\, Arial\, sans-serif\;">Meeting Schedule:</b><font face="Helvetica\, Arial\, sans-serif">&nbsp\;2nd Thursday of each month at Noon</font></span></p>\n<font face="Helvetica\, Arial\, sans-serif">The Kearney Hospitality Group&rsquo\;s purpose is to increase the number of visitors to Kearney by marketing retail and tourism opportunities for conventions\, festivals and special events.</font><br />\n<br />\n<font face="Helvetica\, Arial\, sans-serif">The Kearney Hospitality Group does this by assisting other Chamber Committees with facilitating marketing communication of the Kearney area and providing input to the Kearney Visitor&rsquo\;s Bureau.</font><br />\n<br />\n<font face="Helvetica\, Arial\, sans-serif">This committee is open to all Kearney Chamber Members. To inquire about joining this group\, contact Neva Klemme at </font><a href="mailto:sschulte@kearneycoc.org" style="font-family: Helvetica\, Arial\, sans-serif\; color: rgb(0\, 51\, 102)\; text-decoration: none\;">nklemme@kearneycoc.org</a><font face="Helvetica\, Arial\, sans-serif">\,&nbsp\;or join us for one of our meetings.&nbsp\;</font></div>\n\n<div style="color: rgb(0\, 0\, 0)\; font-family: Helvetica\, Arial\, sans-serif\;">&nbsp\;</div>\n
LOCATION:Kearney Area Chamber of Commerce
UID:e.1404.5492
SEQUENCE:3
DTSTAMP:20260426T020903Z
URL:https://members.kearneycoc.org/events/details/hospitality-committee-meeting-05-09-2019-5492
END:VEVENT

END:VCALENDAR
