BEGIN:VCALENDAR
VERSION:2.0
PRODID:-//ChamberMaster//Event Calendar 2.0//EN
METHOD:PUBLISH
X-PUBLISHED-TTL:P3D
REFRESH-INTERVAL:P3D
CALSCALE:GREGORIAN
BEGIN:VEVENT
DTSTART:20220811T170000Z
DTEND:20220811T180000Z
X-MICROSOFT-CDO-ALLDAYEVENT:FALSE
SUMMARY:Hospitality & Events Committee Meeting
DESCRIPTION:Chamber Coordinator: Heather Ullman\n\nMeeting Schedule: 2nd Thursday of each month alternating between Noon & 4:00\n\n\n\nJoin us on Thursday\, August 11th at 12:00 p.m. for our next Hospitality & Events meeting!  We will hear from Stan Brodine with the Traveling Vietnam Wall and Mike Morgan with the City to talk about Kearney's air services.  Please register for this meeting as we provide lunch and need an accurate headcount.  A $5 donation is appreciated to cover the cost of food.  Thank you!\n\n\n\n \nThe Kearney Hospitality & Events purpose is to increase the number of visitors to Kearney by marketing retail and tourism opportunities for conventions\, festivals and special events. The group does this by assisting other Chamber committees with facilitating marketing communication of the Kearney area and providing input to the Kearney Visitor's Bureau.\n\n\n\nThis committee is open to all Kearney Chamber Members. To inquire about joining this group\, contact Heather Ullman\, hullman@kearneycoc.org\, or join us for one of our meetings.
X-ALT-DESC;FMTTYPE=text/html:<div style="color: rgb(0\, 0\, 0)\; font-family: Helvetica\, Arial\, sans-serif\;">\n<p><span style="font-size:12px\;"><b>Chamber Coordinator: Heather Ullman</b><br />\n<b>Meeting Schedule:</b>&nbsp\;2nd Thursday of each month alternating between Noon &amp\; 4:00</span><br />\n<br />\n<span style="color:black\;"><span style="font-family:helvetica\,sans-serif\;"><span style="font-size:11.0pt\;">Join us on Thursday\, August 11th at 12:00 p.m. for our next Hospitality &amp\; Events meeting!&nbsp\; We will hear from Stan Brodine with the Traveling Vietnam Wall and Mike Morgan with the City to talk about Kearney&#39\;s air services.&nbsp\; Please register for this meeting as we provide lunch and need an accurate headcount.&nbsp\; A $5 donation is appreciated to cover the cost of food.&nbsp\; Thank you!</span></span></span><br />\n<br />\n&nbsp\;</p>\nThe Kearney Hospitality &amp\; Events purpose is to increase the number of visitors to Kearney by marketing retail and tourism opportunities for conventions\, festivals and special events. The group does this by assisting other Chamber committees with facilitating marketing communication of the Kearney area and providing input to the Kearney Visitor&rsquo\;s Bureau.<br />\n<br />\nThis committee is open to all Kearney Chamber Members. To inquire about joining this group\, contact Heather Ullman\, <a href="mailto:hullman@kearneycoc.org">hullman@kearneycoc.org</a>\,&nbsp\;or join us for one of our meetings.&nbsp\;</div>\n\n<div style="color: rgb(0\, 0\, 0)\; font-family: Helvetica\, Arial\, sans-serif\;">&nbsp\;</div>\n
LOCATION:Kearney Area Chamber of Commerce
UID:e.1404.5531
SEQUENCE:3
DTSTAMP:20260421T103026Z
URL:https://members.kearneycoc.org/events/details/hospitality-committee-meeting-08-11-2022-5531
END:VEVENT

END:VCALENDAR
