BEGIN:VCALENDAR
VERSION:2.0
PRODID:-//ChamberMaster//Event Calendar 2.0//EN
METHOD:PUBLISH
X-PUBLISHED-TTL:P3D
REFRESH-INTERVAL:P3D
CALSCALE:GREGORIAN
BEGIN:VEVENT
DTSTART:20210812T170000Z
DTEND:20210812T180000Z
X-MICROSOFT-CDO-ALLDAYEVENT:FALSE
SUMMARY:Hospitality & Events Committee Meeting
DESCRIPTION:Join us at Merryman Performing Arts Center for the August meeting. Executive Director\, Denise Christensen\, will share information about Merryman and the many\, great upcoming concerts and events! \n\n\n\nChair: David Holl\, Microtel Inn & Suites\n\nMeeting Schedule: 2nd Thursday of each month alternating between Noon & 4:00\nThe Kearney Hospitality & Events purpose is to increase the number of visitors to Kearney by marketing retail and tourism opportunities for conventions\, festivals and special events. The group does this by assisting other Chamber committees with facilitating marketing communication of the Kearney area and providing input to the Kearney Visitor's Bureau.\n\n\n\nThis committee is open to all Kearney Chamber Members. To inquire about joining this group\, contact Amy Cope at acope@kearneycoc.org\, or join us for one of our meetings.
X-ALT-DESC;FMTTYPE=text/html:<div style="color: rgb(0\, 0\, 0)\; font-family: Helvetica\, Arial\, sans-serif\;">\n<p>Join us at Merryman Performing Arts Center for the August meeting.&nbsp\;Executive Director\, Denise Christensen\, will share information about Merryman and the many\, great upcoming concerts and events!&nbsp\;<br />\n<br />\n<span style="font-size: 14px\;"><b>Chair: David Holl\, Microtel Inn &amp\; Suites</b><br />\n<b>Meeting Schedule:</b>&nbsp\;2nd Thursday of each month alternating between Noon &amp\; 4:00</span></p>\nThe Kearney Hospitality &amp\; Events purpose is to increase the number of visitors to Kearney by marketing retail and tourism opportunities for conventions\, festivals and special events. The group does this by assisting other Chamber committees with facilitating marketing communication of the Kearney area and providing input to the Kearney Visitor&rsquo\;s Bureau.<br />\n<br />\nThis committee is open to all Kearney Chamber Members. To inquire about joining this group\, contact Amy Cope at&nbsp\;<a href="mailto:acope@kearneycoc.org">acope@kearneycoc.org</a>\,&nbsp\;or join us for one of our meetings.&nbsp\;</div>\n
LOCATION:Hosted @ Merryman Performing Arts Center\, upper level conference room 12:00 noon
UID:e.1404.5519
SEQUENCE:3
DTSTAMP:20260424T021603Z
URL:https://members.kearneycoc.org/events/details/hospitality-committee-meeting-08-12-2021-5519
END:VEVENT

END:VCALENDAR
