BEGIN:VCALENDAR
VERSION:2.0
PRODID:-//ChamberMaster//Event Calendar 2.0//EN
METHOD:PUBLISH
X-PUBLISHED-TTL:P3D
REFRESH-INTERVAL:P3D
CALSCALE:GREGORIAN
BEGIN:VEVENT
DTSTART:20211014T170000Z
DTEND:20211014T180000Z
X-MICROSOFT-CDO-ALLDAYEVENT:FALSE
SUMMARY:Hospitality & Events Committee Meeting
DESCRIPTION:Chair: David Holl\, Microtel Inn & Suites\n\nMeeting Schedule: \n\nFor our October meeting\, we will gather at The Gardens\, located in Yanney Heritage Park.  Scott Hayden and Horticulturist\, Coelette Gruber\, will introduce us to the new attraction. \n\nLunch will not be provided at this meeting due to the tour\, therefore\, we encourage you to eat lunch prior to this event.    \n\n\n\n\n\n2nd Thursday of each month alternating between Noon & 4:00\nThe Kearney Hospitality & Events purpose is to increase the number of visitors to Kearney by marketing retail and tourism opportunities for conventions\, festivals and special events. The group does this by assisting other Chamber committees with facilitating marketing communication of the Kearney area and providing input to the Kearney Visitor's Bureau.\n\n\n\nThis committee is open to all Kearney Chamber Members. To inquire about joining this group\, contact Heather Ullman at hullman@kearneycoc.org\, or join us for one of our meetings.
X-ALT-DESC;FMTTYPE=text/html:<div style="color: rgb(0\, 0\, 0)\; font-family: Helvetica\, Arial\, sans-serif\;">\n<p><span style="font-size: 14px\;"><b>Chair: David Holl\, Microtel Inn &amp\; Suites</b><br />\n<b>Meeting Schedule:</b>&nbsp\;<br />\nFor our October meeting\, we will gather at The Gardens\, located in Yanney Heritage Park.&nbsp\; Scott Hayden and Horticulturist\, Coelette Gruber\, will introduce us to the new&nbsp\;attraction.&nbsp\;<br />\nLunch will not be provided at this meeting due to the tour\, therefore\, we encourage you to eat lunch prior to this event.&nbsp\;&nbsp\;&nbsp\;&nbsp\;<br />\n<br />\n<br />\n2nd Thursday of each month alternating between Noon &amp\; 4:00</span></p>\nThe Kearney Hospitality &amp\; Events purpose is to increase the number of visitors to Kearney by marketing retail and tourism opportunities for conventions\, festivals and special events. The group does this by assisting other Chamber committees with facilitating marketing communication of the Kearney area and providing input to the Kearney Visitor&rsquo\;s Bureau.<br />\n<br />\nThis committee is open to all Kearney Chamber Members. To inquire about joining this group\, contact Heather Ullman at <a href="mailto:hullman@kearneycoc.org">hullman</a><a href="mailto:acope@kearneycoc.org">@kearneycoc.org</a>\,&nbsp\;or join us for one of our meetings.&nbsp\;</div>\n
LOCATION:Yanney Heritage Park 2020 W 11th St
UID:e.1404.5521
SEQUENCE:3
DTSTAMP:20260423T232833Z
URL:https://members.kearneycoc.org/events/details/hospitality-committee-meeting-10-14-2021-5521
END:VEVENT

END:VCALENDAR
