BEGIN:VCALENDAR
VERSION:2.0
PRODID:-//ChamberMaster//Event Calendar 2.0//EN
METHOD:PUBLISH
X-PUBLISHED-TTL:P3D
REFRESH-INTERVAL:P3D
CALSCALE:GREGORIAN
BEGIN:VEVENT
DTSTART:20191114T180000Z
DTEND:20191114T190000Z
X-MICROSOFT-CDO-ALLDAYEVENT:FALSE
SUMMARY:Hospitality Committee Meeting
DESCRIPTION:Chair: David Holl\, Microtel Inn & Suites\n\nVice Chair: Judy Rozema - Kearney Community Theatre\n\nMeeting Schedule: 2nd Thursday of each month at Noon\n\n\n\nJoin us as we hear from Alissa Kern-Pierce about her new business in the Kearney community\, The Village (previously the BoxCar)\, and enjoy lunch sponsored by Godfather's Pizza!\nThe Kearney Hospitality Group's purpose is to increase the number of visitors to Kearney by marketing retail and tourism opportunities for conventions\, festivals and special events.\n\n\n\nThe Kearney Hospitality Group does this by assisting other Chamber Committees with facilitating marketing communication of the Kearney area and providing input to the Kearney Visitor's Bureau.\n\n\n\nThis committee is open to all Kearney Chamber Members. To inquire about joining this group\, contact Amy Cope at acope@kearneycoc.org\, or join us for one of our meetings.
X-ALT-DESC;FMTTYPE=text/html:<div style="color: rgb(0\, 0\, 0)\; font-family: Helvetica\, Arial\, sans-serif\;">\n<p><span style="font-size:12px\;"><b>Chair:&nbsp\;</b><span style="color:black\;"><span style="font-family:helvetica\,sans-serif\;">David Holl\, Microtel Inn &amp\; Suites</span></span><br />\n<strong>Vice Chair:</strong> Judy Rozema - Kearney Community Theatre<br />\n<b>Meeting Schedule:</b>&nbsp\;2nd Thursday of each month at Noon</span><br />\n<br />\n<strong>Join us&nbsp\;as we hear from Alissa Kern-Pierce about her new business in&nbsp\;the Kearney community\, The Village (previously the BoxCar)\, and enjoy lunch sponsored by Godfather&#39\;s Pizza!</strong></p>\nThe Kearney Hospitality Group&rsquo\;s purpose is to increase the number of visitors to Kearney by marketing retail and tourism opportunities for conventions\, festivals and special events.<br />\n<br />\nThe Kearney Hospitality Group does this by assisting other Chamber Committees with facilitating marketing communication of the Kearney area and providing input to the Kearney Visitor&rsquo\;s Bureau.<br />\n<br />\nThis committee is open to all Kearney Chamber Members. To inquire about joining this group\, contact Amy Cope at <a href="mailto:acope@kearneycoc.org">acope@kearneycoc.org</a>\,&nbsp\;or join us for one of our meetings.&nbsp\;</div>\n\n<div style="color: rgb(0\, 0\, 0)\; font-family: Helvetica\, Arial\, sans-serif\;">&nbsp\;</div>\n
LOCATION:Kearney Area Chamber of Commerce
UID:e.1404.5498
SEQUENCE:3
DTSTAMP:20260425T150503Z
URL:https://members.kearneycoc.org/events/details/hospitality-committee-meeting-11-14-2019-5498
END:VEVENT

END:VCALENDAR
