BEGIN:VCALENDAR
VERSION:2.0
PRODID:-//ChamberMaster//Event Calendar 2.0//EN
METHOD:PUBLISH
X-PUBLISHED-TTL:P3D
REFRESH-INTERVAL:P3D
CALSCALE:GREGORIAN
BEGIN:VEVENT
DTSTART:20210114T180000Z
DTEND:20210114T190000Z
X-MICROSOFT-CDO-ALLDAYEVENT:FALSE
SUMMARY:Hospitality & Events Committee
DESCRIPTION:Chair: \n\nVice Chair: \n\nMeeting Schedule: Monthly alternating between 12:00 noon and 4:00 p.m.\n\n\n\nThe Kearney Hospitality & Events Group's purpose is to increase the number of visitors to Kearney by marketing retail and tourism opportunities for conventions\, festivals and special events. The Kearney Hospitality & Events Group does this by assisting other Chamber Committees with facilitating marketing communication of the Kearney area and providing input to the Kearney Visitor's Bureau.  \nThis committee is open to all Kearney Chamber Members. To inquire about joining this group\, contact Amy Cope at acope@kearneycoc.org\, or join us for one of our meetings.
X-ALT-DESC;FMTTYPE=text/html:<div style="color: rgb(0\, 0\, 0)\; font-family: Helvetica\, Arial\, sans-serif\;">\n<p><span style="font-size:14px\;"><span style="font-family:arial\;"><b>Chair:&nbsp\;</b><br />\n<strong>Vice Chair:</strong>&nbsp\;<br />\n<b>Meeting Schedule:</b>&nbsp\;Monthly alternating&nbsp\;between 12:00 noon and 4:00 p.m.<br />\n<br />\nThe Kearney Hospitality &amp\; Events Group&#39\;s purpose is to increase the number of visitors to Kearney by marketing retail and tourism opportunities for conventions\, festivals and special events.&nbsp\;The Kearney Hospitality &amp\; Events Group does this by assisting other Chamber Committees with facilitating marketing communication of the Kearney area and providing input to the Kearney Visitor&rsquo\;s Bureau.&nbsp\;&nbsp\;</span></span></p>\n<span style="font-size:14px\;"><span style="font-family:arial\;">This committee is open to all Kearney Chamber Members. To inquire about joining this group\, contact Amy Cope at <a href="mailto:acope@kearneycoc.org">acope@kearneycoc.org</a>\,&nbsp\;or join us for one of our meetings.&nbsp\;</span></span></div>\n\n<div style="color: rgb(0\, 0\, 0)\; font-family: Helvetica\, Arial\, sans-serif\;">&nbsp\;</div>\n
LOCATION:Kearney Area Chamber of Commerce
UID:e.1404.5512
SEQUENCE:3
DTSTAMP:20260424T155852Z
URL:https://members.kearneycoc.org/events/details/hospitality-events-committee-5512
END:VEVENT

END:VCALENDAR
