BEGIN:VCALENDAR
VERSION:2.0
PRODID:-//ChamberMaster//Event Calendar 2.0//EN
METHOD:PUBLISH
X-PUBLISHED-TTL:P3D
REFRESH-INTERVAL:P3D
CALSCALE:GREGORIAN
BEGIN:VEVENT
DTSTART:20210408T170000Z
DTEND:20210408T180000Z
X-MICROSOFT-CDO-ALLDAYEVENT:FALSE
SUMMARY:Hospitality & Events Committee Meeting
DESCRIPTION:Chair: David Holl\, Microtel Inn & Suites\n\nMeeting Schedule: 2nd Thursday of each month alternating between Noon & 4:00\nThe Kearney Hospitality & Events purpose is to increase the number of visitors to Kearney by marketing retail and tourism opportunities for conventions\, festivals and special events. The group does this by assisting other Chamber committees with facilitating marketing communication of the Kearney area and providing input to the Kearney Visitor's Bureau.\n\n\n\nThis committee is open to all Kearney Chamber Members. To inquire about joining this group\, contact Amy Cope at acope@kearneycoc.org\, or join us for one of our meetings.
X-ALT-DESC;FMTTYPE=text/html:<div style="color: rgb(0\, 0\, 0)\; font-family: Helvetica\, Arial\, sans-serif\;">\n<p>&nbsp\;</p>\n\n<div style="color: rgb(0\, 0\, 0)\; font-family: Helvetica\, Arial\, sans-serif\;">\n<p><span style="font-size: 14px\;"><b>Chair: David Holl\, Microtel Inn &amp\; Suites</b><br />\n<b>Meeting Schedule:</b>&nbsp\;2nd Thursday of each month alternating between Noon &amp\; 4:00</span></p>\nThe Kearney Hospitality &amp\; Events purpose is to increase the number of visitors to Kearney by marketing retail and tourism opportunities for conventions\, festivals and special events. The group does this by assisting other Chamber committees with facilitating marketing communication of the Kearney area and providing input to the Kearney Visitor&rsquo\;s Bureau.<br />\n<br />\nThis committee is open to all Kearney Chamber Members. To inquire about joining this group\, contact Amy Cope at&nbsp\;<a href="mailto:acope@kearneycoc.org">acope@kearneycoc.org</a>\,&nbsp\;or join us for one of our meetings.&nbsp\;</div>\n\n<div style="color: rgb(0\, 0\, 0)\; font-family: Helvetica\, Arial\, sans-serif\;">&nbsp\;</div>\n</div>\n
LOCATION:Kearney Area Chamber of Commerce
UID:e.1404.5515
SEQUENCE:3
DTSTAMP:20260424T104101Z
URL:https://members.kearneycoc.org/events/details/hospitality-events-committee-meeting-04-08-2021-5515
END:VEVENT

END:VCALENDAR
