BEGIN:VCALENDAR
VERSION:2.0
PRODID:-//ChamberMaster//Event Calendar 2.0//EN
METHOD:PUBLISH
X-PUBLISHED-TTL:P3D
REFRESH-INTERVAL:P3D
CALSCALE:GREGORIAN
BEGIN:VEVENT
DTSTART:20160329T130000Z
DTEND:20160407T010000Z
X-MICROSOFT-CDO-ALLDAYEVENT:FALSE
SUMMARY:How Do I Fund My Loved One's Care?
DESCRIPTION:Senior care can be a major expense. What's worse\, by the time you realize you need help\, the situation may be urgent-and money is the last thing you need to be worrying about. Fortunately\, planning a few steps ahead can keep you out of check and put you in a great position when it's time to make the decision for assisted living. This is an information session about planning for senior care.
X-ALT-DESC;FMTTYPE=text/html:Senior care can be a major expense. What&#39\;s worse\, by the time you realize you need help\, the situation may be urgent-and money is the last thing you need to be worrying about. Fortunately\, planning a few steps ahead can keep you out of check and put you in a great position when it&#39\;s time to make the decision for assisted living. This is an information session about planning for senior care.
LOCATION:Cambridge Court Assisted Living 4107 Central Avenue Kearney\, Nebraska
UID:e.1404.8562
SEQUENCE:3
DTSTAMP:20260421T215953Z
URL:https://members.kearneycoc.org/events/details/how-do-i-fund-my-loved-one-s-care-03-29-2016-8562
END:VEVENT

END:VCALENDAR
