BEGIN:VCALENDAR
VERSION:2.0
PRODID:-//ChamberMaster//Event Calendar 2.0//EN
METHOD:PUBLISH
X-PUBLISHED-TTL:P3D
REFRESH-INTERVAL:P3D
CALSCALE:GREGORIAN
BEGIN:VEVENT
DTSTART:20190915T000000Z
DTEND:20190915T030000Z
X-MICROSOFT-CDO-ALLDAYEVENT:FALSE
SUMMARY:Husker Saturday - Huskers vs. Northern Illinois
DESCRIPTION:Come on out and watch the game on the big screen! Bring your favorite snack food to share during the game. We have a big potluck for friends and family! As always...get a free jello shot for every Husker score. drink specials all day! Then stick around for some classic rock with Iron Zephyr after the game.
X-ALT-DESC;FMTTYPE=text/html:Come on out and watch the game on the big screen! Bring your favorite snack food to share during the game. We have a big potluck for friends and family! As always...get a free jello shot for every Husker score. drink specials all day! Then stick around for some classic rock with Iron Zephyr after the game.&nbsp\;
LOCATION:JD's 2023 1st Ave.
UID:e.1404.17884
SEQUENCE:3
DTSTAMP:20260425T181006Z
URL:https://members.kearneycoc.org/events/details/husker-saturday-huskers-vs-northern-illinois-17884
END:VEVENT

END:VCALENDAR
