BEGIN:VCALENDAR
VERSION:2.0
PRODID:-//ChamberMaster//Event Calendar 2.0//EN
METHOD:PUBLISH
X-PUBLISHED-TTL:P3D
REFRESH-INTERVAL:P3D
CALSCALE:GREGORIAN
BEGIN:VEVENT
DTSTART:20191004T000000Z
DTEND:20191006T190000Z
X-MICROSOFT-CDO-ALLDAYEVENT:FALSE
SUMMARY:I Hate Shakespeare! Performance
DESCRIPTION:Performances of "I Hate Shakespeare!" by Steph Deferie will be held in the Kearney High School Concert Hall and Theater Thursday and Friday\, October 3-4\, at 7:00 pm\, Saturday\, October 5 at 8:00 pm\, and a matinee performance on Sunday\, October 6th at 2:00 pm. General Admission tickets are $5.00\, and will be sold by cast and crew members\, and at the door. A bake sale will be held by the Theatre Parent Booster group during intermission.
X-ALT-DESC;FMTTYPE=text/html:Performances of &quot\;I Hate Shakespeare!&quot\; by Steph Deferie will be held in the Kearney High School Concert Hall and Theater Thursday and Friday\, October 3-4\, at 7:00 pm\, Saturday\, October 5 at 8:00 pm\, and a matinee performance on Sunday\, October 6th at 2:00 pm. General Admission tickets are $5.00\, and will be sold by cast and crew members\, and at the door. A bake sale will be held by the Theatre Parent Booster group during intermission.
LOCATION:Kearney High School Concert Hall and Theater
UID:e.1404.17906
SEQUENCE:3
DTSTAMP:20260425T163530Z
URL:https://members.kearneycoc.org/events/details/i-hate-shakespeare-performance-17906
END:VEVENT

END:VCALENDAR
