BEGIN:VCALENDAR
VERSION:2.0
PRODID:-//ChamberMaster//Event Calendar 2.0//EN
METHOD:PUBLISH
X-PUBLISHED-TTL:P3D
REFRESH-INTERVAL:P3D
CALSCALE:GREGORIAN
BEGIN:VEVENT
DTSTART;VALUE=DATE:20160201
DTEND;VALUE=DATE:20160207
TRANSP:TRANSPARENT
X-MICROSOFT-CDO-ALLDAYEVENT:TRUE
SUMMARY:Ice Block Challege
DESCRIPTION:Guess how many coins are hidden within a giant ice block! Watch it melt all week and see the coins revealed!  Will you have the winning guess?\n\n\n\nPrize is the Star Wars BB-8 Remote Control toy!
X-ALT-DESC;FMTTYPE=text/html:<strong style="line-height: 20.8px\;"><span style="font-family: arial\;"><span style="font-size: 12pt\;">Guess how many coins are hidden within a giant ice block! Watch it melt all week and see the coins revealed!&nbsp\; Will you have the winning guess?<br />\n<br />\nPrize is the Star Wars BB-8 Remote Control toy!</span></span></strong>
LOCATION:Kearney Area Children's Museum
UID:e.1404.7499
SEQUENCE:3
DTSTAMP:20260422T012117Z
URL:https://members.kearneycoc.org/events/details/ice-block-challege-02-01-2016-7499
END:VEVENT

END:VCALENDAR
