BEGIN:VCALENDAR
VERSION:2.0
PRODID:-//ChamberMaster//Event Calendar 2.0//EN
METHOD:PUBLISH
X-PUBLISHED-TTL:P3D
REFRESH-INTERVAL:P3D
CALSCALE:GREGORIAN
BEGIN:VEVENT
DTSTART:20130202T010000Z
DTEND:20130202T030000Z
X-MICROSOFT-CDO-ALLDAYEVENT:FALSE
SUMMARY:Imago - ZooZoo
DESCRIPTION:A menagerie like no other - a giant dinosaur\, floating fire-fly bug eyes\, hungry anteaters\, hitch-hiking rabbits\, introverted frogs\, cantankerous polar bears and tricky penguins fill the stage with wit\, wonder and mesmerizing mayhem!
X-ALT-DESC;FMTTYPE=text/html:A menagerie like no other - a giant dinosaur\, floating fire-fly bug eyes\, hungry anteaters\, hitch-hiking rabbits\, introverted frogs\, cantankerous polar bears and tricky penguins fill the stage with wit\, wonder and mesmerizing mayhem!
LOCATION:Merryman Performing Arts Center 225 W. 22nd St.\, Kearney NE 68845
UID:e.1404.1957
SEQUENCE:3
DTSTAMP:20260424T155813Z
URL:https://members.kearneycoc.org/events/details/imago-zoozoo-02-01-2013-1957
END:VEVENT

END:VCALENDAR
