BEGIN:VCALENDAR
VERSION:2.0
PRODID:-//ChamberMaster//Event Calendar 2.0//EN
METHOD:PUBLISH
X-PUBLISHED-TTL:P3D
REFRESH-INTERVAL:P3D
CALSCALE:GREGORIAN
BEGIN:VEVENT
DTSTART:20190621T183000Z
DTEND:20190622T013000Z
X-MICROSOFT-CDO-ALLDAYEVENT:FALSE
SUMMARY:Independent Cattlemen of Nebraska Conference
DESCRIPTION:1:30 p.m. (CST) Registration & the "Jim Hanna Memorial Scholarship" Silent Auction Starts 2:30 p.m. - Business Meeting begins\, Legislative Updates\, & Rick Leonard\, legal counsel for the Agriculture Committee\, NE Legislature We will be having TWO Dynamic & Renowned Speakers this year: *Brian O'Shaughnessy from New York & * Michael B. Yanney of Omaha (See their bio's in this issue of the Ranchers Review) Cocktail Hour\, Mingling\, & Silent Auction to be followed by: A Steak Supper catered by Arrow Hotel's "Bonfire Grill". End the Evening relaxing\, listening & laughing along with our Entertainment: R.P. Smith\, Humorist & Cowboy Poet\, always a treat! Spend the Night at The Cobblestone Hotel & Suites with a special rate of $80/night\; Call (308) 767-2060 and ask for the ICON special rate. Then join fellow members in an informal round of Golf on Saturday June 22nd at: The Broken Bow Golf Course. ~~~~~~~~~~~~~~~~~~~~~~~~~~~~~~~~~~~~~~~~~~~~~~ This year we will have a Silent Auction for the "Jim Hanna Memorial Scholarship" with Donations that will be a surprise and something for everyone. ~~~~~~~~~~~~~~~~~~~~~~~~~~~~~~~~~~~~~~
X-ALT-DESC;FMTTYPE=text/html:1:30 p.m. (CST) Registration &amp\; the &ldquo\;Jim Hanna Memorial Scholarship&rdquo\; Silent Auction Starts 2:30 p.m. - Business Meeting begins\, Legislative Updates\, &amp\; Rick Leonard\, legal counsel for the Agriculture Committee\, NE Legislature We will be having TWO Dynamic &amp\; Renowned Speakers this year: *Brian O&rsquo\;Shaughnessy from New York &amp\; * Michael B. Yanney of Omaha (See their bio&rsquo\;s in this issue of the Ranchers Review) Cocktail Hour\, Mingling\, &amp\; Silent Auction to be followed by: A Steak Supper catered by Arrow Hotel&rsquo\;s &ldquo\;Bonfire Grill&rdquo\;. End the Evening relaxing\, listening &amp\; laughing along with our Entertainment: R.P. Smith\, Humorist &amp\; Cowboy Poet\, always a treat! Spend the Night at The Cobblestone Hotel &amp\; Suites with a special rate of $80/night\; Call (308) 767-2060 and ask for the ICON special rate. Then join fellow members in an informal round of Golf on Saturday June 22nd at: The Broken Bow Golf Course. ~~~~~~~~~~~~~~~~~~~~~~~~~~~~~~~~~~~~~~~~~~~~~~ This year we will have a Silent Auction for the &ldquo\;Jim Hanna Memorial Scholarship&rdquo\; with Donations that will be a surprise and something for everyone. ~~~~~~~~~~~~~~~~~~~~~~~~~~~~~~~~~~~~~~
LOCATION:Cobblestone Hotel & Suites 2750 South 27th Avenue Broken Bow\, Nebraska 68822
UID:e.1404.16568
SEQUENCE:3
DTSTAMP:20260426T004719Z
URL:https://members.kearneycoc.org/events/details/independent-cattlemen-of-nebraska-conference-16568
END:VEVENT

END:VCALENDAR
