BEGIN:VCALENDAR
VERSION:2.0
PRODID:-//ChamberMaster//Event Calendar 2.0//EN
METHOD:PUBLISH
X-PUBLISHED-TTL:P3D
REFRESH-INTERVAL:P3D
CALSCALE:GREGORIAN
BEGIN:VEVENT
DTSTART:20150826T170000Z
DTEND:20150826T220000Z
X-MICROSOFT-CDO-ALLDAYEVENT:FALSE
SUMMARY:Infogressive's Cybersecurity Road Show
DESCRIPTION:Infogressive Inc.\, a cybersecurity company based out of Lincoln\, is stopping in Kearney as part of their Cybersecurity Road Show. They are sponsoring a free half-day seminar that will discuss what the current information security threats are to small business\, and the best ways to defend against them. Speakers from Fortinet\, Cylance\, Qualys and LogRhythm will cover topics such as next generation firewalls\, malware defenses\, managed security services and more. The afternoon will start with lunch and ends with a cocktail hour. Register today at: http://www.infogressive.com/roadshow/
X-ALT-DESC;FMTTYPE=text/html:<span style="color:black\;"><span style="font-family:calibri\,sans-serif\;"><span style="font-size:10.5pt\;">Infogressive Inc.\, a cybersecurity company based out of Lincoln\, is stopping in Kearney as part of their Cybersecurity Road Show. They are sponsoring a free half-day seminar that will discuss what the current information security threats are to small business\, and the best ways to defend against them. Speakers from Fortinet\, Cylance\, Qualys and LogRhythm will cover topics such as next generation firewalls\, malware defenses\, managed security services and more. The afternoon will start with lunch and ends with a cocktail hour. Register today at:&nbsp\;<a href="http://www.infogressive.com/roadshow/">http://www.infogressive.com/roadshow/</a></span></span></span>
LOCATION:Best Western 224 S 2nd Ave Kearney\, NE
UID:e.1404.6673
SEQUENCE:3
DTSTAMP:20260422T114659Z
URL:https://members.kearneycoc.org/events/details/infogressive-s-cybersecurity-road-show-08-26-2015-6673
END:VEVENT

END:VCALENDAR
