BEGIN:VCALENDAR
VERSION:2.0
PRODID:-//ChamberMaster//Event Calendar 2.0//EN
METHOD:PUBLISH
X-PUBLISHED-TTL:P3D
REFRESH-INTERVAL:P3D
CALSCALE:GREGORIAN
BEGIN:VEVENT
DTSTART:20191003T130000Z
DTEND:20191003T200000Z
X-MICROSOFT-CDO-ALLDAYEVENT:FALSE
SUMMARY:Infrastructure Seminar with Congressman Smith
DESCRIPTION:At the Infrastructure Seminar\, Third District residents will be able to hear from a wide variety of Nebraska officials and stakeholders on the current state of infrastructure\, plans for the future and resources available to communities\; Panel topics included will be: "Workforce\, Trade Skills Education\, Economic Development\," "Rural Housing Development and Access Opportunities\," "Water and Energy Management and Infrastructure\," "Surface Transportation and Heavy Equipment\," and "Rural Broadband and Community Development."  \n\n"Infrastructure is critical to our economy. More than just roads\, infrastructure includes bridges\, railroads\, ports\, irrigation\, telecommunications\, pipelines\, and many other facilities. I am eager to hear about the state of our infrastructure from our special guests\, and the residents of Nebraska's Third District."\n\n\n\nRSVPs are strongly encouraged if you would like to attend. Please RSVP at https://adriansmith.house.gov/rsvp. A live stream of the seminar will be available on Facebook Live at Facebook.com/RepAdrianSmith for those unable to attend in person.
X-ALT-DESC;FMTTYPE=text/html:<p style="box-sizing: border-box\; margin: 0px 0px 10px\; font-family: Roboto\; font-size: 16px\;">At the Infrastructure Seminar\, Third District residents will be able to hear from a wide variety of Nebraska officials and stakeholders on the current state of infrastructure\, plans for the future and resources available to communities\; Panel topics included will be: &ldquo\;Workforce\, Trade Skills Education\, Economic Development\,&rdquo\; &ldquo\;Rural Housing Development and Access Opportunities\,&rdquo\; &ldquo\;Water and Energy Management and Infrastructure\,&rdquo\; &ldquo\;Surface Transportation and Heavy Equipment\,&rdquo\; and &ldquo\;Rural Broadband and Community Development.&rdquo\; &nbsp\;</p>\n\n<p style="box-sizing: border-box\; margin: 0px 0px 10px\; font-family: Roboto\; font-size: 16px\;"><b style="box-sizing: border-box\;">&ldquo\;Infrastructure is critical to our economy. More than just roads\, infrastructure includes bridges\, railroads\, ports\, irrigation\, telecommunications\, pipelines\, and many other facilities. I am eager to hear about the state of our infrastructure from our special guests\, and the residents of Nebraska&rsquo\;s Third District.&rdquo\;</b><br />\n<br />\n<span style="font-family: Roboto\; font-size: 16px\;">RSVPs are strongly encouraged if you would like to attend. Please RSVP at&nbsp\;</span><a href="https://adriansmith.house.gov/rsvp" style="box-sizing: border-box\; color: rgb(85\, 114\, 132)\; text-decoration-line: none\; transition: all 0.3s ease-in-out 0s\; font-family: Roboto\; font-size: 16px\;">https://adriansmith.house.gov/rsvp</a><span style="font-family: Roboto\; font-size: 16px\;">. A live stream of the seminar will be available on Facebook Live at Facebook.com/RepAdrianSmith for those unable to attend in person.</span></p>\n
LOCATION:Location: Hastings Central Community College Hall Student Union\, Cottonwood Room 550 S. Technical Blvd. Hastings\, NE 68901
UID:e.1404.17921
SEQUENCE:3
DTSTAMP:20260425T163840Z
URL:https://members.kearneycoc.org/events/details/infrastructure-seminar-with-congressman-smith-17921
END:VEVENT

END:VCALENDAR
