BEGIN:VCALENDAR
VERSION:2.0
PRODID:-//ChamberMaster//Event Calendar 2.0//EN
METHOD:PUBLISH
X-PUBLISHED-TTL:P3D
REFRESH-INTERVAL:P3D
CALSCALE:GREGORIAN
BEGIN:VEVENT
DTSTART:20220329T170000Z
DTEND:20220329T183000Z
X-MICROSOFT-CDO-ALLDAYEVENT:FALSE
SUMMARY:INSPIRE Women in Business Luncheon
DESCRIPTION:The Kearney Area Chamber of Commerce is thrilled to announce the 1st annual INSPIRE Women in Business Luncheon on Tuesday\, March 29th at Cunningham's on the Lake!\n\nWe invite you to join us for lunch celebrating women in business and for the opportunity to share your experiences\, build community\, and thrive in a changing world.\n\nWe founded INSPIRE to create a radically inclusive space to talk about things like resiliency and trust among women. This luncheon is centered on identifying strategies for women to support other women.
X-ALT-DESC;FMTTYPE=text/html:<p dir="ltr" style="line-height: 1.8\; margin-top: 0pt\; margin-bottom: 0pt\; padding: 0pt 0pt 8pt\;"><span id="docs-internal-guid-8f188c6e-7fff-8458-dbeb-bfd746dad769"><span style="font-size: 12pt\; font-family: Arial\; color: rgb(0\, 0\, 0)\; background-color: transparent\; font-variant-numeric: normal\; font-variant-east-asian: normal\; vertical-align: baseline\; white-space: pre-wrap\;">The Kearney Area Chamber of Commerce is thrilled to announce the 1st annual INSPIRE Women in Business Luncheon on Tuesday\, March 29th at Cunningham&rsquo\;s on the Lake!</span></span></p>\n\n<p dir="ltr" style="line-height: 1.8\; margin-top: 0pt\; margin-bottom: 0pt\; padding: 0pt 0pt 8pt\;"><span id="docs-internal-guid-8f188c6e-7fff-8458-dbeb-bfd746dad769"><span style="font-size: 12pt\; font-family: Arial\; color: rgb(0\, 0\, 0)\; background-color: transparent\; font-variant-numeric: normal\; font-variant-east-asian: normal\; vertical-align: baseline\; white-space: pre-wrap\;">We invite you to join us for lunch celebrating women in business and for the opportunity to share your experiences\, build community\, and thrive in a changing world.</span></span></p>\n\n<p dir="ltr" style="line-height: 1.8\; margin-top: 0pt\; margin-bottom: 8pt\;"><span id="docs-internal-guid-8f188c6e-7fff-8458-dbeb-bfd746dad769"><span style="font-size: 12pt\; font-family: Arial\; color: rgb(0\, 0\, 0)\; background-color: transparent\; font-variant-numeric: normal\; font-variant-east-asian: normal\; vertical-align: baseline\; white-space: pre-wrap\;">We founded INSPIRE to create a radically inclusive space to talk about things like resiliency and trust among women. This luncheon is centered on identifying strategies for women to support other women.</span></span></p>\n\n<div>&nbsp\;</div>\n
LOCATION:Cunningham's on the Lake 610 Talmadge St Suite A Kearney\, NE 68845
UID:e.1404.19663
SEQUENCE:3
DTSTAMP:20260423T150006Z
URL:https://members.kearneycoc.org/events/details/inspire-women-in-business-luncheon-19663
END:VEVENT

END:VCALENDAR
