BEGIN:VCALENDAR
VERSION:2.0
PRODID:-//ChamberMaster//Event Calendar 2.0//EN
METHOD:PUBLISH
X-PUBLISHED-TTL:P3D
REFRESH-INTERVAL:P3D
CALSCALE:GREGORIAN
BEGIN:VEVENT
DTSTART:20220427T170000Z
DTEND:20220427T183000Z
X-MICROSOFT-CDO-ALLDAYEVENT:FALSE
SUMMARY:INSPIRE Women In Business Luncheon
DESCRIPTION:Join us for the next Women In Business Luncheon! INSPIRE luncheons are centered around the successes of female innovators\, and how you can capitalize from their experiences for your own continued growth and success! Lunch is provided\, great networking and an inspiring keynote speaker\, Dr. Tracey Kruse.\n\n\n\nAs Vice President of Development and External Affairs at Northeast Community College\, Dr. Tracy Kruse oversees the college's resource development\, grants\, alumni\, and state and federal governmental relations activities. Additionally\, she serves as the Executive Director of the Northeast Community College Foundation and works directly with a 19-member Foundation Board.   She earned a Bachelor of Arts degree in Public Relations and Communications\, an MBA in Business Administration\, and a Ph.D. in Education Leadership and Policy. Her dissertation and several published works focused on the intersection of social capital and finances among community college students. \n\n\n\nhttps://www.kearneycoc.org/inspire
X-ALT-DESC;FMTTYPE=text/html:<span style="font-family:arial\;">Join us for the next Women In Business Luncheon! INSPIRE luncheons are centered around the successes of female innovators\, and how you can capitalize from their experiences for your own continued growth and success! Lunch is provided\, great networking and an inspiring keynote speaker\, Dr. Tracey Kruse.<br />\n<br />\n<span style="background-color: transparent\; color: rgb(var(--color_35))\; font-size: 14px\; letter-spacing: 0em\;">As Vice President of Development and External Affairs at Northeast Community College\, Dr. Tracy Kruse oversees the college&rsquo\;s resource&nbsp\;</span><span style="background-color: transparent\; color: rgb(var(--color_35))\; font-size: 14px\; letter-spacing: 0em\;">development\, grants\, alumni\, and state and federal governmental relations activities. Additionally\, she serves as the Executive&nbsp\;</span><span style="background-color: transparent\; color: rgb(var(--color_35))\; font-size: 14px\; letter-spacing: 0em\;">Director of the Northeast Community College Foundation and works directly with a 19-member Foundation Board. &nbsp\; She earned&nbsp\;</span><span style="background-color: transparent\; color: rgb(var(--color_35))\; font-size: 14px\; letter-spacing: 0em\;">a Bachelor of Arts degree in Public Relations and Communications\, an MBA in Business Administration\, and a Ph.D. in&nbsp\;</span><span style="background-color: transparent\; color: rgb(var(--color_35))\; font-size: 14px\; letter-spacing: 0em\;">Education Leadership and Policy. Her dissertation and several published works focused on the intersection of social capital&nbsp\;</span><span style="background-color: transparent\; color: rgb(var(--color_35))\; font-size: 14px\; letter-spacing: 0em\;">and finances among community college students.&nbsp\;</span></span><br />\n<br />\n<a href="https://www.kearneycoc.org/inspire" style="background-color: transparent\; letter-spacing: 0em\;">https://www.kearneycoc.org/inspire</a>
LOCATION:Cunningham's on the Lake 610 Talmadge Street Kearney\, NE 68845
UID:e.1404.19670
SEQUENCE:3
DTSTAMP:20260423T133215Z
URL:https://members.kearneycoc.org/events/details/inspire-women-in-business-luncheon-19670
END:VEVENT

END:VCALENDAR
