BEGIN:VCALENDAR
VERSION:2.0
PRODID:-//ChamberMaster//Event Calendar 2.0//EN
METHOD:PUBLISH
X-PUBLISHED-TTL:P3D
REFRESH-INTERVAL:P3D
CALSCALE:GREGORIAN
BEGIN:VEVENT
DTSTART:20190925T220000Z
DTEND:20190926T000000Z
X-MICROSOFT-CDO-ALLDAYEVENT:FALSE
SUMMARY:Intercity Bus Route Study
DESCRIPTION:Share your thoughts on bus service between Grand Island\, Hastings and Kearney at upcoming Public Open House meetings. \n\n\n\nJoin us online! Visit nebraskatransit.com and click\n\non the 'Grand Island\, Hastings\, Kearney' link for project information.\n\nJoin a stakeholder meeting with Signup Genius: https://tinyurl.com/y2gcsbq6
X-ALT-DESC;FMTTYPE=text/html:Share your thoughts on bus service between Grand Island\, Hastings and Kearney at upcoming Public Open House meetings.&nbsp\;<br />\n<br />\nJoin us online! Visit nebraskatransit.com and click<br />\non the &lsquo\;Grand Island\, Hastings\, Kearney&rsquo\; link for project information.<br />\nJoin a stakeholder meeting with Signup Genius: https://tinyurl.com/y2gcsbq6
LOCATION:UNK Alumni House 2222 9th Ave.
UID:e.1404.17929
SEQUENCE:3
DTSTAMP:20260425T180511Z
URL:https://members.kearneycoc.org/events/details/intercity-bus-route-study-17929
END:VEVENT

END:VCALENDAR
