BEGIN:VCALENDAR
VERSION:2.0
PRODID:-//ChamberMaster//Event Calendar 2.0//EN
METHOD:PUBLISH
X-PUBLISHED-TTL:P3D
REFRESH-INTERVAL:P3D
CALSCALE:GREGORIAN
BEGIN:VEVENT
DTSTART:20160204T220000Z
DTEND:20160205T000000Z
X-MICROSOFT-CDO-ALLDAYEVENT:FALSE
SUMMARY:International Conversation Table in the Student Union
DESCRIPTION:
X-ALT-DESC;FMTTYPE=text/html:
LOCATION:
UID:e.1404.7502
SEQUENCE:3
DTSTAMP:20260422T012147Z
URL:https://members.kearneycoc.org/events/details/international-conversation-table-in-the-student-union-02-04-2016-7502
END:VEVENT

END:VCALENDAR
