BEGIN:VCALENDAR
VERSION:2.0
PRODID:-//ChamberMaster//Event Calendar 2.0//EN
METHOD:PUBLISH
X-PUBLISHED-TTL:P3D
REFRESH-INTERVAL:P3D
CALSCALE:GREGORIAN
BEGIN:VEVENT
DTSTART:20160306T220000Z
DTEND:20160307T010000Z
X-MICROSOFT-CDO-ALLDAYEVENT:FALSE
SUMMARY:International Food & Cultural Festival
DESCRIPTION:UNK's Annual International Food & Cultural Festival
X-ALT-DESC;FMTTYPE=text/html:UNK&#39\;s Annual International Food &amp\; Cultural Festival
LOCATION:UNK Health & Sports Center 2501 15th Ave
UID:e.1404.7520
SEQUENCE:3
DTSTAMP:20260421T234332Z
URL:https://members.kearneycoc.org/events/details/international-food-cultural-festival-03-06-2016-7520
END:VEVENT

END:VCALENDAR
