BEGIN:VCALENDAR
VERSION:2.0
PRODID:-//ChamberMaster//Event Calendar 2.0//EN
METHOD:PUBLISH
X-PUBLISHED-TTL:P3D
REFRESH-INTERVAL:P3D
CALSCALE:GREGORIAN
BEGIN:VEVENT
DTSTART:20131206T143000Z
DTEND:20131206T153000Z
X-MICROSOFT-CDO-ALLDAYEVENT:FALSE
SUMMARY:Internship Nebraska - (Breakfast Training)
DESCRIPTION:Internships for your Business\n\n	\n		Friday\, December 6\n	\n		8:30 am-9:30 am\n	\n		Kearney Area Chamber of Commerce Board Room\n	\n		1007 Second Ave\n	\n		$15.00 for Chamber Members\; $20.00 for non-members\n	\n		Please rsvp by December 3 to Leslie Means  lmeans@kearneycoc.org or (308) 237-3101\n	\n		Breakfast is provided\n\n\n\n\n	Allison Hatch and Christina Bartels with the Nebraska Department of Economic Development will share information about the financial assistance that is available to businesses through the InternNE Grant Program and Nebraska Prototype Program.  Come and learn how the InternNE program is helping businesses who are seeking internships\, the changes that have been made to enhance the program\, and how InternNE.com is connecting college students and employers across the state.  You will also learn about the Nebraska Prototype Program\, which provides funding to help individuals and businesses develop and test new products and technologies that lead to quality job opportunities across the state\n\n	Seating is limited and reservations are required.  You can pay in advance or at the door.  To reserve your lunch and seat\, call the Chamber at (308) 237-3101.  If you reserve a spot but are unable to attend\, you must cancel your reservation 24 hours before the event or you will be billed.
X-ALT-DESC;FMTTYPE=text/html:<p style="color: rgb(0\, 0\, 0)\; font-family: Helvetica\, Arial\, sans-serif\;">\n	<b><font size="4" style="text-decoration: underline\;">Internships for your Business</font></b></p>\n<ul style="color: rgb(0\, 0\, 0)\; font-family: Helvetica\, Arial\, sans-serif\;">\n	<li style="list-style-type: square\;">\n		Friday\, December 6</li>\n	<li style="list-style-type: square\;">\n		8:30 am-9:30 am</li>\n	<li style="list-style-type: square\;">\n		Kearney Area Chamber of Commerce Board Room</li>\n	<li style="list-style-type: square\;">\n		1007 Second Ave</li>\n	<li style="list-style-type: square\;">\n		$15.00 for Chamber Members\; $20.00 for non-members</li>\n	<li style="list-style-type: square\;">\n		Please rsvp by December 3&nbsp\;to Leslie Means&nbsp\;&nbsp\;<a href="mailto:lmeans@kearneycoc.org" style="text-decoration: none\; color: rgb(0\, 51\, 102)\;">lmeans@kearneycoc.org</a>&nbsp\;or (308) 237-3101</li>\n	<li style="list-style-type: square\;">\n		Breakfast is provided</li>\n</ul>\n<br style="color: rgb(0\, 0\, 0)\; font-family: Helvetica\, Arial\, sans-serif\;" />\n<p style="color: rgb(0\, 0\, 0)\; font-family: Helvetica\, Arial\, sans-serif\;">\n	Allison Hatch and Christina Bartels with the Nebraska Department of Economic Development will share information about the financial assistance that is available to businesses through the InternNE Grant Program and Nebraska Prototype Program.&nbsp\; Come and learn how the InternNE program is helping businesses who are seeking internships\, the changes that have been made to enhance the program\, and how InternNE.com is connecting college students and employers across the state.&nbsp\; You will also learn about the Nebraska Prototype Program\, which provides funding to help individuals and businesses develop and test new products and technologies that lead to quality job opportunities across the state</p>\n<p style="color: rgb(0\, 0\, 0)\; font-family: Helvetica\, Arial\, sans-serif\;">\n	Seating is limited and reservations are required.&nbsp\; You can pay in advance or at the door.&nbsp\; To reserve your lunch and seat\, call the Chamber at (308) 237-3101.&nbsp\; If you reserve a spot but are unable to attend\, you must cancel your reservation 24 hours before the event or you will be billed.</p>\n
LOCATION:
UID:e.1404.3368
SEQUENCE:3
DTSTAMP:20260423T213438Z
URL:https://members.kearneycoc.org/events/details/internship-nebraska-breakfast-training-12-06-2013-3368
END:VEVENT

END:VCALENDAR
