BEGIN:VCALENDAR
VERSION:2.0
PRODID:-//ChamberMaster//Event Calendar 2.0//EN
METHOD:PUBLISH
X-PUBLISHED-TTL:P3D
REFRESH-INTERVAL:P3D
CALSCALE:GREGORIAN
BEGIN:VEVENT
DTSTART:20150208T013000Z
DTEND:20150208T033000Z
X-MICROSOFT-CDO-ALLDAYEVENT:FALSE
SUMMARY:Jaimee Paul-Kearney Concert Association
DESCRIPTION:Let yourself be transported to another place and time as you enjoy this dynamic rising vocalist.  Jaimee Paul's voice and sophisticated stage presence will mesmerize and enchant you\, as she has audiences all over the world.  Jaimee is backed by a jazz combo led by her husband\, Leif Shires.  Both Jaimee and Leif are in high demand with their fellow musicians in Nashville\, including Kelly Clarkson.
X-ALT-DESC;FMTTYPE=text/html:Let yourself be transported to another&nbsp\;place and time as you enjoy this dynamic rising vocalist. &nbsp\;Jaimee Paul&#39\;s voice and sophisticated stage presence will mesmerize and enchant you\, as she has audiences all over the world. &nbsp\;Jaimee is backed by a jazz combo led by her husband\, Leif Shires. &nbsp\;Both Jaimee and Leif are in high demand with their fellow musicians in Nashville\, including Kelly Clarkson.
LOCATION:Merryman Performing Arts Center
UID:e.1404.5342
SEQUENCE:3
DTSTAMP:20260422T212451Z
URL:https://members.kearneycoc.org/events/details/jaimee-paul-kearney-concert-association-02-07-2015-5342
END:VEVENT

END:VCALENDAR
