BEGIN:VCALENDAR
VERSION:2.0
PRODID:-//ChamberMaster//Event Calendar 2.0//EN
METHOD:PUBLISH
X-PUBLISHED-TTL:P3D
REFRESH-INTERVAL:P3D
CALSCALE:GREGORIAN
BEGIN:VEVENT
DTSTART:20160222T000000Z
DTEND:20160222T030000Z
X-MICROSOFT-CDO-ALLDAYEVENT:FALSE
SUMMARY:Japanese Festival in the Student Union
DESCRIPTION:
X-ALT-DESC;FMTTYPE=text/html:
LOCATION:
UID:e.1404.7504
SEQUENCE:3
DTSTAMP:20260422T012434Z
URL:https://members.kearneycoc.org/events/details/japanese-festival-in-the-student-union-02-21-2016-7504
END:VEVENT

END:VCALENDAR
