BEGIN:VCALENDAR
VERSION:2.0
PRODID:-//ChamberMaster//Event Calendar 2.0//EN
METHOD:PUBLISH
X-PUBLISHED-TTL:P3D
REFRESH-INTERVAL:P3D
CALSCALE:GREGORIAN
BEGIN:VEVENT
DTSTART:20140907T160000Z
DTEND:20140907T190000Z
X-MICROSOFT-CDO-ALLDAYEVENT:FALSE
SUMMARY:JENNY (WOOD) FRITSON BENEFIT
DESCRIPTION:Take a couple hours out of your day on Sunday\, September 7\, and help out a family in need\, i.e. Jenny and Matt (Tiny) Fritson and family! Meal will consist of: BBQ Pork Sandwich\, Baked Beans\, Chips\, Tea/Coffee/Water. There will also be a silent auction\, and an opportunity to order a t-shirt created by Jenny's daughter for her mom. GOAL: Money raised will help defray medical care costs\, handicap needs\, and the family's basic living expenses. Jenny (Wood Fritson was involved in a single car accident\, along with her daughter\, Sara\, on Saturday morning\, June 21\, 2014. Sara suffered cuts and bruises\, but Jenny was flown to Good Samaritan Hospital in Kearney\, NE with a dislocated right clavicle from her sternum\, some broken ribs\, a punctured lung and a ruptured T12 vertebrae. Two back surgeries were done to try and repair the damage\, but Jenny continues to be paralyzed from the waist down\, and was transported by ambulance on July 15 to Madonna Hospital in Lincoln where she still remains. Silent auction items continue to come in\, but a lot of them can be viewed on an event page on Facebook: Jenny Wood Fritson Benefit Your support will be greatly appreciated! Hope to see you there!
X-ALT-DESC;FMTTYPE=text/html:Take a couple hours out of your day on Sunday\, September 7\, and help out a family in need\, i.e. Jenny and Matt (Tiny) Fritson and family! Meal will consist of: BBQ Pork Sandwich\, Baked Beans\, Chips\, Tea/Coffee/Water. There will also be a silent auction\, and an opportunity to order a t-shirt created by Jenny&#39\;s daughter for her mom. GOAL: Money raised will help defray medical care costs\, handicap needs\, and the family&#39\;s basic living expenses. Jenny (Wood Fritson was involved in a single car accident\, along with her daughter\, Sara\, on Saturday morning\, June 21\, 2014. Sara suffered cuts and bruises\, but Jenny was flown to Good Samaritan Hospital in Kearney\, NE with a dislocated right clavicle from her sternum\, some broken ribs\, a punctured lung and a ruptured T12 vertebrae. Two back surgeries were done to try and repair the damage\, but Jenny continues to be paralyzed from the waist down\, and was transported by ambulance on July 15 to Madonna Hospital in Lincoln where she still remains. Silent auction items continue to come in\, but a lot of them can be viewed on an event page on Facebook: Jenny Wood Fritson Benefit Your support will be greatly appreciated! Hope to see you there!
LOCATION:Axtell\, NE Public School - Practice Gym (Use East entrance) School is located on the north end of Main Street in Axtell\, NE
UID:e.1404.5316
SEQUENCE:3
DTSTAMP:20260423T070106Z
URL:https://members.kearneycoc.org/events/details/jenny-wood-fritson-benefit-09-07-2014-5316
END:VEVENT

END:VCALENDAR
