BEGIN:VCALENDAR
VERSION:2.0
PRODID:-//ChamberMaster//Event Calendar 2.0//EN
METHOD:PUBLISH
X-PUBLISHED-TTL:P3D
REFRESH-INTERVAL:P3D
CALSCALE:GREGORIAN
BEGIN:VEVENT
DTSTART:20131215T203000Z
DTEND:20131215T220000Z
X-MICROSOFT-CDO-ALLDAYEVENT:FALSE
SUMMARY:Joesph Hall as Elvis
DESCRIPTION:Event:  Joseph Hall as Elvis  Date:  Sunday\, December 15th Time: 2:30 pm  Ticket Price: $20 each (tickets available at  MindenOperaHouse.com or by calling 308-832-0588)   Come spend an afternoon with Elvis Presley       tribute artist Joseph Hall\, featuring the greatest CHRISTMAS songs of the King of Rock 'N Roll.  This event is selling quickly. If you would like to attend please be sure to purchase tickets soon
X-ALT-DESC;FMTTYPE=text/html:Event: &nbsp\;Joseph Hall as Elvis&nbsp\; Date: &nbsp\;Sunday\, December 15th Time: 2:30 pm&nbsp\; Ticket Price: $20 each (tickets available at&nbsp\; MindenOperaHouse.com or by calling 308-832-0588) &nbsp\; Come spend an afternoon with Elvis Presley &nbsp\; &nbsp\; &nbsp\; tribute artist Joseph Hall\, featuring the greatest CHRISTMAS songs of the King of Rock &#39\;N Roll. &nbsp\;This event is selling quickly. If you would like to attend please be sure to purchase tickets soon 
LOCATION:Minden Opera House 322 East 5th\, Minden\, NE 68959
UID:e.1404.3386
SEQUENCE:3
DTSTAMP:20260423T212810Z
URL:https://members.kearneycoc.org/events/details/joesph-hall-as-elvis-12-15-2013-3386
END:VEVENT

END:VCALENDAR
