BEGIN:VCALENDAR
VERSION:2.0
PRODID:-//ChamberMaster//Event Calendar 2.0//EN
METHOD:PUBLISH
X-PUBLISHED-TTL:P3D
REFRESH-INTERVAL:P3D
CALSCALE:GREGORIAN
BEGIN:VEVENT
DTSTART:20191103T000000Z
DTEND:20191103T070000Z
X-MICROSOFT-CDO-ALLDAYEVENT:FALSE
SUMMARY:Jon Wolfe w/ Randall King at JD's
DESCRIPTION:Jon Wolfe and Randall King are coming back to Ktown...this time together for a night of great Music! Not too often you get 2 of the best out there together in one night! \n\n$15 Advance tickets\, $20 Day of Show\n\n\n\nDoors open @ 7pm\, 21+\n\nTickets: www.jdscountry.com www.stubwire.com or pay (Cash Only) at the bar
X-ALT-DESC;FMTTYPE=text/html:<span style="color: rgb(29\, 33\, 41)\; font-family: Helvetica\, Arial\, sans-serif\; font-size: 14px\; white-space: pre-wrap\;">Jon Wolfe and Randall King are coming back to Ktown...this time together for a night of great Music! Not too often you get 2 of the best out there together in one night! </span><br style="color: rgb(29\, 33\, 41)\; font-family: Helvetica\, Arial\, sans-serif\; font-size: 14px\; white-space: pre-wrap\;" />\n<span style="color: rgb(29\, 33\, 41)\; font-family: Helvetica\, Arial\, sans-serif\; font-size: 14px\; white-space: pre-wrap\;">$15 Advance tickets\, $20 Day of Show</span><br style="color: rgb(29\, 33\, 41)\; font-family: Helvetica\, Arial\, sans-serif\; font-size: 14px\; white-space: pre-wrap\;" />\n<br style="color: rgb(29\, 33\, 41)\; font-family: Helvetica\, Arial\, sans-serif\; font-size: 14px\; white-space: pre-wrap\;" />\n<span style="color: rgb(29\, 33\, 41)\; font-family: Helvetica\, Arial\, sans-serif\; font-size: 14px\; white-space: pre-wrap\;">Doors open @ 7pm\, 21+</span><br style="color: rgb(29\, 33\, 41)\; font-family: Helvetica\, Arial\, sans-serif\; font-size: 14px\; white-space: pre-wrap\;" />\n<span style="color: rgb(29\, 33\, 41)\; font-family: Helvetica\, Arial\, sans-serif\; font-size: 14px\; white-space: pre-wrap\;">Tickets: </span><a data-lynx-mode="hover" href="https://l.facebook.com/l.php?u=http%3A%2F%2Fwww.jdscountry.com%2F%3Ffbclid%3DIwAR1da8-KMJ_hT5_EGhl74oKANDtn0b4PV-2QPePezv2RINlTbB11HwWDT64&amp\;h=AT1ZlJHR-uc9oXsWToR0zufrLzMGOsjbvV8LnRaRSCtQGSYdrBjgoxnnx2jN-AOpWlydbYGeB3pvs2uY4kHPnrkCEJJM2REWx5RZQ9HQC9HEFQEFnrIGYozXzlN0jp8FPtE" rel="nofollow noopener" style="color: rgb(56\, 88\, 152)\; cursor: pointer\; text-decoration-line: none\; font-family: Helvetica\, Arial\, sans-serif\; font-size: 14px\; white-space: pre-wrap\;" target="_blank">www.jdscountry.com</a><span style="color: rgb(29\, 33\, 41)\; font-family: Helvetica\, Arial\, sans-serif\; font-size: 14px\; white-space: pre-wrap\;"> </span><a data-lynx-mode="hover" href="https://l.facebook.com/l.php?u=http%3A%2F%2Fwww.stubwire.com%2F%3Ffbclid%3DIwAR1da8-KMJ_hT5_EGhl74oKANDtn0b4PV-2QPePezv2RINlTbB11HwWDT64&amp\;h=AT20gqfBzJWQr9FYb-Dtek90I7TSNZUMwKfQPRXdeyxuubQcVZCBc6U-KBSr4883469GaauBQ9i7EQjUgwt1N9Si-POZh97C7AqJSqSj519G00ih6aeItskMxbd6rEdp_ko" rel="nofollow noopener" style="color: rgb(56\, 88\, 152)\; cursor: pointer\; text-decoration-line: none\; font-family: Helvetica\, Arial\, sans-serif\; font-size: 14px\; white-space: pre-wrap\;" target="_blank">www.stubwire.com</a><span style="color: rgb(29\, 33\, 41)\; font-family: Helvetica\, Arial\, sans-serif\; font-size: 14px\; white-space: pre-wrap\;"> or pay (Cash Only) at the bar</span>
LOCATION:2023 1st Ave Kearney\, NE 68847
UID:e.1404.17904
SEQUENCE:3
DTSTAMP:20260425T150304Z
URL:https://members.kearneycoc.org/events/details/jon-wolfe-w-randall-king-at-jd-s-17904
END:VEVENT

END:VCALENDAR
