BEGIN:VCALENDAR
VERSION:2.0
PRODID:-//ChamberMaster//Event Calendar 2.0//EN
METHOD:PUBLISH
X-PUBLISHED-TTL:P3D
REFRESH-INTERVAL:P3D
CALSCALE:GREGORIAN
BEGIN:VEVENT
DTSTART:20161024T170000Z
DTEND:20161024T183000Z
X-MICROSOFT-CDO-ALLDAYEVENT:FALSE
SUMMARY:Joseph's College Open House
DESCRIPTION:Join us at our Joseph's College Open House from 12:00 - 1:30pm. We'll give you a tour of our school\, have lunch\, and let you spend some time with our students. We look forward to meeting you. Call or text Marcie at 402-525-3619 to RSVP!
X-ALT-DESC;FMTTYPE=text/html:Join us at our Joseph&#39\;s College Open House from 12:00 - 1:30pm. We&#39\;ll give you a tour of our school\, have lunch\, and let you spend some time with our students. We look forward to meeting you. Call or text Marcie at 402-525-3619 to RSVP!
LOCATION:Joseph's College of Beauty 2213 Central Avenue
UID:e.1404.9003
SEQUENCE:3
DTSTAMP:20260421T122613Z
URL:https://members.kearneycoc.org/events/details/joseph-s-college-open-house-9003
END:VEVENT

END:VCALENDAR
