BEGIN:VCALENDAR
VERSION:2.0
PRODID:-//ChamberMaster//Event Calendar 2.0//EN
METHOD:PUBLISH
X-PUBLISHED-TTL:P3D
REFRESH-INTERVAL:P3D
CALSCALE:GREGORIAN
BEGIN:VEVENT
DTSTART:20120714T180000Z
DTEND:20120714T210000Z
X-MICROSOFT-CDO-ALLDAYEVENT:FALSE
SUMMARY:Jr. Firefighters Fun Day!
DESCRIPTION:Ages 3+ (with an adult) will get to spray a fire hose from a hydrant\, learn about & touch a modern firetruck\, dress up in bunker gear\, learn about Nebraska's historic fire equipment\, interactively discover how to prevent fires indoors & outdoors\, create firefighting-themed crafts & snacks\, meet/play/learn from real Nebraska firefighters and MORE!\n\n	 \n\n	Reserve a HOT SPOT for your family or group\, or sign up to volunteer for the event\, by calling 308-338-FIRE(3473) or emailing Mail@NEFFM.org.
X-ALT-DESC;FMTTYPE=text/html:<div style="line-height: 17px\; color: rgb(42\, 42\, 42)\; font-family: 'Segoe UI'\, Tahoma\, Verdana\, Arial\, sans-serif\; font-size: 13px\; ">\n	<strong style="text-align: center\; ">Ages 3+ (with an adult)</strong><strong style="text-align: center\; ">&nbsp\;will get to spray a fire hose from a hydrant\, learn about &amp\; touch a modern firetruck\, dress up in bunker gear\, learn about&nbsp\;Nebraska&rsquo\;s&nbsp\;historic&nbsp\;fire&nbsp\;equipment\, interactively discover how to prevent&nbsp\;fires&nbsp\;indoors &amp\; outdoors\, create firefighting-themed crafts &amp\;&nbsp\;snacks\, meet/play/learn from real Nebraska firefighters and MORE!</strong></div>\n<div style="line-height: 17px\; color: rgb(42\, 42\, 42)\; font-family: 'Segoe UI'\, Tahoma\, Verdana\, Arial\, sans-serif\; font-size: 13px\; ">\n	&nbsp\;</div>\n<div style="line-height: 17px\; color: rgb(42\, 42\, 42)\; font-family: 'Segoe UI'\, Tahoma\, Verdana\, Arial\, sans-serif\; font-size: 13px\; ">\n	<b>Reserve a HOT SPOT for your family or group\, or sign up to volunteer for the event\, by calling 308-338-FIRE(3473) or emailing Mail@NEFFM.org.</b></div>\n
LOCATION:Nebraska Firefighters Museum & Education Center (located next to the Archway)
UID:e.1404.1948
SEQUENCE:3
DTSTAMP:20260425T032850Z
URL:https://members.kearneycoc.org/events/details/jr-firefighters-fun-day-07-14-2012-1948
END:VEVENT

END:VCALENDAR
