BEGIN:VCALENDAR
VERSION:2.0
PRODID:-//ChamberMaster//Event Calendar 2.0//EN
METHOD:PUBLISH
X-PUBLISHED-TTL:P3D
REFRESH-INTERVAL:P3D
CALSCALE:GREGORIAN
BEGIN:VEVENT
DTSTART:20150913T170000Z
DTEND:20150913T230000Z
X-MICROSOFT-CDO-ALLDAYEVENT:FALSE
SUMMARY:Jr Storm & Tri City Storm 4th Annual Golf Classic
DESCRIPTION:The Jr Storm and Tri City Storm 4th Annual Golf Classic. Proceeds to benefit Tri City Youth Hockey.
X-ALT-DESC;FMTTYPE=text/html:The Jr Storm and Tri City Storm 4th Annual Golf Classic.&nbsp\;Proceeds to benefit Tri City Youth Hockey.
LOCATION:Meadowlark Hills Golf Course
UID:e.1404.6724
SEQUENCE:3
DTSTAMP:20260422T101832Z
URL:https://members.kearneycoc.org/events/details/jr-storm-tri-city-storm-4th-annual-golf-classic-09-13-2015-6724
END:VEVENT

END:VCALENDAR
