BEGIN:VCALENDAR
VERSION:2.0
PRODID:-//ChamberMaster//Event Calendar 2.0//EN
METHOD:PUBLISH
X-PUBLISHED-TTL:P3D
REFRESH-INTERVAL:P3D
CALSCALE:GREGORIAN
BEGIN:VEVENT
DTSTART:20120703T220000Z
DTEND:20120704T040000Z
X-MICROSOFT-CDO-ALLDAYEVENT:FALSE
SUMMARY:July 3rd Fireworks Extravaganza!
DESCRIPTION:July 3rd Fireworks Extravaganza!\n\n	Gates Open 5:00pm\n\n	Fireworks: Dusk (9:30pm)\n\n	Location: Viaero Event Center\n\n	Cost: Donations accepted at the gate\n\n	 \n\n	Kearney's July 3 Independence Day Celebration and fireworks show returns to the Viaero Event Center for the 12th year in a row. \n\n	The fireworks show is being produced by Wald's All American Display Fireworks from Greenwood\, Mo.\, and will begin about 9:30 p.m. at the Event Center. \n\n	\n\n	The Kearney Area Chamber of Commerce\, which hosts and organizes the fireworks show\, teams with the Viaero Event Center each year in presenting the event.\n\n	\n\n	Families are invited to gather and tailgate in the evening prior to the fireworks display. Food and beverages will be sold on site\, but those attending also are allowed to bring their own food and beverages.\n\n	Admission to the July 3 Independence Day Celebration is free. The Chamber funds the show and uses sponsorships and donations to help offset expenses. Chamber volunteers will be at the entrance the day of the event to accept donations. The Chamber has organized the event since 1992 and moved it to the Viaero Event Center in 2001.
X-ALT-DESC;FMTTYPE=text/html:<p class="MsoNormal">\n	<strong><b><i><font color="red" face="Candara" size="6"><span style="FONT-STYLE: italic\; FONT-FAMILY: Candara\; COLOR: red\; FONT-SIZE: 22pt">July 3rd Fireworks Extravaganza!</span></font></i></b></strong></p>\n<p class="MsoNormal">\n	<strong><b><font face="Candara" size="3"><span style="FONT-FAMILY: Candara\; FONT-SIZE: 12pt"><span _mce_style="font-size: 12pt\; font-family: Candara\,Trebuchet MS\,Arial\,sans-serif\;">Gates Open 5:00pm</span></span></font></b></strong></p>\n<p class="MsoNormal">\n	<strong><b><font face="Candara" size="3"><span style="FONT-FAMILY: Candara\; FONT-SIZE: 12pt"><span _mce_style="font-size: 12pt\; font-family: Candara\,Trebuchet MS\,Arial\,sans-serif\;">Fireworks: Dusk (9:30pm)</span></span></font></b></strong></p>\n<p class="MsoNormal">\n	<strong><b><font face="Candara" size="3"><span style="FONT-FAMILY: Candara\; FONT-SIZE: 12pt"><span _mce_style="font-size: 12pt\; font-family: Candara\,Trebuchet MS\,Arial\,sans-serif\;">Location: Viaero Event Center</span></span></font></b></strong></p>\n<p class="MsoNormal">\n	<strong><b><font face="Candara" size="3"><span style="FONT-FAMILY: Candara\; FONT-SIZE: 12pt"><span _mce_style="font-size: 12pt\; font-family: Candara\,Trebuchet MS\,Arial\,sans-serif\;">Cost: Donations accepted at the gate</span></span></font></b></strong></p>\n<p class="MsoNormal">\n	<font face="Times New Roman" size="3"><span style="FONT-SIZE: 12pt">&nbsp\;</span></font></p>\n<p class="MsoNormal">\n	<font face="Candara" size="3"><span style="FONT-FAMILY: Candara\; FONT-SIZE: 12pt"><span _mce_style="font-size: 12pt\; font-family: Candara\,Trebuchet MS\,Arial\,sans-serif\;">Kearney</span></span></font><font face="Candara"><span style="FONT-FAMILY: Candara">&#39\;s July 3 Independence Day Celebration and fireworks show returns to the Viaero Event Center for the 12th year in a row. </span></font></p>\n<p class="MsoNormal">\n	<font face="Candara" size="3"><span style="FONT-FAMILY: Candara\; FONT-SIZE: 12pt"><span _mce_style="font-size: 12pt\; font-family: Candara\,Trebuchet MS\,Arial\,sans-serif\;">The fireworks show is being produced by Wald&#39\;s All American Display Fireworks from Greenwood\, Mo.\, and will begin about 9:30 p.m. at the Event Center. </span></span></font></p>\n<p class="MsoNormal">\n	<br />\n	<font face="Candara"><span style="FONT-FAMILY: Candara"><span _mce_style="font-size: 12pt\; font-family: Candara\,Trebuchet MS\,Arial\,sans-serif\;">The Kearney Area Chamber of Commerce\, which hosts and organizes the fireworks show\, teams with the Viaero Event Center each year in presenting the event.</span></span></font></p>\n<p class="MsoNormal" style="MARGIN-BOTTOM: 12pt">\n	<br />\n	<font face="Candara"><span style="FONT-FAMILY: Candara"><span _mce_style="font-size: 12pt\; font-family: Candara\,Trebuchet MS\,Arial\,sans-serif\;">Families are invited to gather and tailgate in the evening prior to the fireworks display. Food and beverages will be sold on site\, but those attending also are allowed to bring their own food and beverages.</span></span></font></p>\n<p class="MsoNormal">\n	<font face="Candara" size="3"><span style="FONT-FAMILY: Candara\; FONT-SIZE: 12pt"><span _mce_style="font-size: 12pt\; font-family: Candara\,Trebuchet MS\,Arial\,sans-serif\;">Admission to the July 3 Independence Day Celebration is free. The Chamber funds the show and uses sponsorships and donations to help offset expenses. Chamber volunteers will be at the entrance the day of the event to accept donations. </span><span _mce_style="font-size: 12pt\; font-family: Candara\,Trebuchet MS\,Arial\,sans-serif\;">The Chamber has organized the event since 1992 and moved it to the Viaero Event Center in 2001.</span></span></font></p>\n
LOCATION:
UID:e.1404.1931
SEQUENCE:3
DTSTAMP:20260425T032851Z
URL:https://members.kearneycoc.org/events/details/july-3rd-fireworks-extravaganza-07-03-2012-1931
END:VEVENT

END:VCALENDAR
