BEGIN:VCALENDAR
VERSION:2.0
PRODID:-//ChamberMaster//Event Calendar 2.0//EN
METHOD:PUBLISH
X-PUBLISHED-TTL:P3D
REFRESH-INTERVAL:P3D
CALSCALE:GREGORIAN
BEGIN:VEVENT
DTSTART:20140703T233000Z
DTEND:20140704T040000Z
X-MICROSOFT-CDO-ALLDAYEVENT:FALSE
SUMMARY:July 3rd Fireworks Extravaganza!
DESCRIPTION:July 3rd Fireworks Extravaganza!\n\nGates Open 6:30pm\n\nFireworks: Dusk (10:00pm)\n\nLocation: Viaero Event Center\n\nCost: Donations accepted at the gate\n\nKearney's July 3 Independence Day Celebration and fireworks show returns to the Viaero Event Center.\n\nThe Kearney Area Chamber of Commerce\, which hosts and organizes the fireworks show\, teams with the Viaero Event Center each year in presenting the event.\n\nFamilies are invited to gather and tailgate in the evening prior to the fireworks display.  Those attending also are allowed to bring their own food and beverages.\n\nAdmission to the July 3 Independence Day Celebration is free. The Chamber funds the show and uses sponsorships and donations to help offset expenses. Chamber volunteers will be at the entrance the day of the event to accept donations. The Chamber has organized the event since 1992 and moved it to the Viaero Event Center in 2001.\n\n\n\nA few changes to note about this event is prior to the display\, there will be a concert at the Viaero Event Center featuring Gavin DeGraw and Matt Nathanson starting at 6:00 PM. Keep a watch out for ways to win tickets.\n\n\n\nClick here to sponsor the event
X-ALT-DESC;FMTTYPE=text/html:<p class="MsoNormal"><strong><b><i><font color="red" face="Candara" size="6"><span style="FONT-STYLE: italic\; FONT-FAMILY: Candara\; COLOR: red\; FONT-SIZE: 22pt">July 3rd Fireworks Extravaganza!</span></font></i></b></strong></p>\n\n<p class="MsoNormal"><strong><b><font face="Candara" size="3"><span style="FONT-FAMILY: Candara\; FONT-SIZE: 12pt"><span _mce_style="font-size: 12pt\; font-family: Candara\,Trebuchet MS\,Arial\,sans-serif\;">Gates Open 6:30pm</span></span></font></b></strong></p>\n\n<p class="MsoNormal"><strong><b><font face="Candara" size="3"><span style="FONT-FAMILY: Candara\; FONT-SIZE: 12pt"><span _mce_style="font-size: 12pt\; font-family: Candara\,Trebuchet MS\,Arial\,sans-serif\;">Fireworks: Dusk (10:00pm)</span></span></font></b></strong></p>\n\n<p class="MsoNormal"><strong><b><font face="Candara" size="3"><span style="FONT-FAMILY: Candara\; FONT-SIZE: 12pt"><span _mce_style="font-size: 12pt\; font-family: Candara\,Trebuchet MS\,Arial\,sans-serif\;">Location: Viaero Event Center</span></span></font></b></strong></p>\n\n<p class="MsoNormal"><strong><b><font face="Candara" size="3"><span style="FONT-FAMILY: Candara\; FONT-SIZE: 12pt"><span _mce_style="font-size: 12pt\; font-family: Candara\,Trebuchet MS\,Arial\,sans-serif\;">Cost: Donations accepted at the gate</span></span></font></b></strong></p>\n\n<p class="MsoNormal"><span style="font-size:16px\;"><font face="Candara"><span _mce_style="font-size: 12pt\; font-family: Candara\,Trebuchet MS\,Arial\,sans-serif\;">Kearney</span></font><font face="Candara" style="line-height: 1.6\;">&#39\;s July 3 Independence Day Celebration and fireworks show returns to the Viaero Event Center.</font></span></p>\n\n<p class="MsoNormal"><span style="font-size:16px\;"><font face="Candara"><span style="FONT-FAMILY: Candara"><span _mce_style="font-size: 12pt\; font-family: Candara\,Trebuchet MS\,Arial\,sans-serif\;">The Kearney Area Chamber of Commerce\, which hosts and organizes the fireworks show\, teams with the Viaero Event Center each year in presenting the event.</span></span></font></span></p>\n\n<p class="MsoNormal" style="MARGIN-BOTTOM: 12pt"><span style="font-size:16px\;"><font face="Candara"><span style="FONT-FAMILY: Candara"><span _mce_style="font-size: 12pt\; font-family: Candara\,Trebuchet MS\,Arial\,sans-serif\;">Families are invited to gather and tailgate in the evening prior to the fireworks display. &nbsp\;Those attending also are allowed to bring their own food and beverages.</span></span></font></span></p>\n\n<p class="MsoNormal"><span style="font-size:16px\;"><font face="Candara"><span style="font-family: Candara\;"><span _mce_style="font-size: 12pt\; font-family: Candara\,Trebuchet MS\,Arial\,sans-serif\;">Admission to the July 3 Independence Day Celebration is free. The Chamber funds the show and uses sponsorships and donations to help offset expenses. Chamber volunteers will be at the entrance the day of the event to accept donations. The Chamber has organized the event since 1992 and moved it to the Viaero Event Center in 2001.<br />\n<br />\nA few changes to note about this event is prior to the display\, there will be a concert at the Viaero Event Center featuring Gavin DeGraw and Matt Nathanson starting at 6:00 PM. Keep a watch out for ways to win tickets.<br />\n<br />\nClick <u><strong><span style="color:#0000FF\;"><a href="http://cloud.chambermaster.com/userfiles/UserFiles/chambers/1404/File/SponsorForm.pdf">here</a></span></strong></u><span style="color:#0000FF\;">&nbsp\;</span>to sponsor the event</span></span></font></span></p>\n
LOCATION:Viaero Event Center 609 Platte Rd Kearney\, NE 68847
UID:e.1404.4857
SEQUENCE:3
DTSTAMP:20260423T100933Z
URL:https://members.kearneycoc.org/events/details/july-3rd-fireworks-extravaganza-07-03-2014-4857
END:VEVENT

END:VCALENDAR
