BEGIN:VCALENDAR
VERSION:2.0
PRODID:-//ChamberMaster//Event Calendar 2.0//EN
METHOD:PUBLISH
X-PUBLISHED-TTL:P3D
REFRESH-INTERVAL:P3D
CALSCALE:GREGORIAN
BEGIN:VEVENT
DTSTART:20140321T140000Z
DTEND:20140321T200000Z
X-MICROSOFT-CDO-ALLDAYEVENT:FALSE
SUMMARY:Jump Start Wellness
DESCRIPTION:Learn the ABC's of how to\n\nbuild a high-quality\n\nworksite wellness program!\n\n\n\nWhy Worksite Wellness?\n\n  Employees spend more awake hours at work\n\nthen any other place.\n\n  Companies are experiencing double-digit\n\nhealth care cost increases.\n\n  Worksite health programs have consistently\n\ndemonstrated a positive return on\n\ninvestment.\n\n  Employers with active wellness programs\n\nexperience happier and healthier employees\,\n\nincreased production\, and retain talented\n\nemployees.\n\n  The average return on investment is 5:1.\n\n  Offering opportunities to be healthy is "the\n\nright thing to do."\n\n\n\nhttp://cloud.chambermaster.com/userfiles/UserFiles/chambers/1404/File/JUMPSTARTFLYERMarch2014TwoRivers2.pdf
X-ALT-DESC;FMTTYPE=text/html:<strong>Learn the ABC&rsquo\;s of how to<br />\nbuild a high-quality<br />\nworksite wellness program!</strong><br />\n<br />\n<strong><u>Why Worksite Wellness?</u></strong><br />\n&bull\; Employees spend more awake hours at work<br />\nthen any other place.<br />\n&bull\; Companies are experiencing double-digit<br />\nhealth care cost increases.<br />\n&bull\; Worksite health programs have consistently<br />\ndemonstrated a positive return on<br />\ninvestment.<br />\n&bull\; Employers with active wellness programs<br />\nexperience happier and healthier employees\,<br />\nincreased production\, and retain talented<br />\nemployees.<br />\n&bull\; The average return on investment is 5:1.<br />\n&bull\; Offering opportunities to be healthy is &ldquo\;the<br />\nright thing to do.&rdquo\;<br />\n<br />\n<a href="http://cloud.chambermaster.com/userfiles/UserFiles/chambers/1404/File/JUMPSTARTFLYERMarch2014TwoRivers2.pdf">http://cloud.chambermaster.com/userfiles/UserFiles/chambers/1404/File/JUMPSTARTFLYERMarch2014TwoRivers2.pdf</a>
LOCATION:March 21 - Holdrege\, Neb. F. Johnson Bldg\, 701 4th Ave. Lower Level Conference Room 9:00 a.m. - 3:00 p.m. (Lunch Provided).
UID:e.1404.4525
SEQUENCE:3
DTSTAMP:20260423T163644Z
URL:https://members.kearneycoc.org/events/details/jump-start-wellness-03-21-2014-4525
END:VEVENT

END:VCALENDAR
