BEGIN:VCALENDAR
VERSION:2.0
PRODID:-//ChamberMaster//Event Calendar 2.0//EN
METHOD:PUBLISH
X-PUBLISHED-TTL:P3D
REFRESH-INTERVAL:P3D
CALSCALE:GREGORIAN
BEGIN:VEVENT
DTSTART;VALUE=DATE:20210501
DTEND;VALUE=DATE:20210502
TRANSP:TRANSPARENT
X-MICROSOFT-CDO-ALLDAYEVENT:TRUE
SUMMARY:Junior Achievement Bowl-a-Thon
DESCRIPTION:Join us for a day of fun\, team-building\, and raising money to inspire and prepare Kearney students to have a bright future!\n\n\n\nOn May 1st\, hundreds of Kearney business people and educators will come together to bowl and secure donations for the 6th Annual Junior Achievement Bowl-a-thon! This year alone\, over 3\,400 Kearney students will benefit from the generosity of sponsors\, bowlers\, and donors!\n\n \n\nProceeds from the JA Bowl-a-thon support Junior Achievement's mission of preparing Kearney's young people for a bright future!\n\n\n\nTo sponsor\, bowl or simply learn more visit\, https://secure.qgiv.com/for/junachokea/event/822380/
X-ALT-DESC;FMTTYPE=text/html:<span style="font-size:14px\;"><span style="font-family:arial\;">Join us for a day of fun\, team-building\, and raising money to inspire and prepare Kearney students to have a bright future!<br />\n<br />\n<span style="color:#5E5E5E\;">On May 1st\, hundreds of Kearney business people and educators will come together to bowl and secure donations for the&nbsp\;<strong>6th Annual Junior Achievement Bowl-a-thon</strong>! This year alone\, over 3\,400 Kearney students will benefit from the generosity of sponsors\, bowlers\, and donors!</span><br />\n&nbsp\;<br />\n<span style="color:#5E5E5E\;">Proceeds from the JA Bowl-a-thon support Junior Achievement&#39\;s mission of preparing Kearney&#39\;s young people for a bright future!<br />\n<br />\nTo sponsor\, bowl or simply learn more visit\,&nbsp\;</span><a href="https://secure.qgiv.com/for/junachokea/event/822380/">https://secure.qgiv.com/for/junachokea/event/822380/</a></span></span>
LOCATION:Big Apple Fun Center 500 W 4th St Kearney NE
UID:e.1404.18917
SEQUENCE:3
DTSTAMP:20260424T081102Z
URL:https://members.kearneycoc.org/events/details/junior-achievement-bowl-a-thon-18917
END:VEVENT

END:VCALENDAR
